BEGIN:VCALENDAR
VERSION:2.0
PRODID:-//ChamberMaster//Event Calendar 2.0//EN
METHOD:PUBLISH
X-PUBLISHED-TTL:P3D
REFRESH-INTERVAL:P3D
CALSCALE:GREGORIAN
BEGIN:VEVENT
DTSTART:20251129T230000Z
DTEND:20251130T010000Z
X-MICROSOFT-CDO-ALLDAYEVENT:FALSE
SUMMARY:Prancer's Pajama Party
DESCRIPTION:Throw on your coziest PJs and join us as we kick off the holiday season with Prancer's Pajama Party\, showcasing Downtown Chandler's Holiday Magic Featuring Sugarland! Bring the family for this FREE community event and enjoy reindeer games\, community performances\, photos with Bluey and Bingo\, and more! All the fun is from 4 - 6 p.m. in Dr. A.J. Chandler Park West.\n\n\n\nThis is the kick-off to downtown Chandler's festive display. Experience Holiday Magic Featuring Sugarland ?November 29th - December 30th throughout downtown.
X-ALT-DESC;FMTTYPE=text/html:<span style="font-size:16px\;"><span style="font-family:arial\;"><span style="color:#000000\;">Throw on your coziest PJs and join us as we kick off the holiday season with Prancer&#39\;s Pajama Party\, showcasing Downtown Chandler&#39\;s Holiday Magic Featuring Sugarland! Bring the family for this FREE community event and enjoy reindeer games\, community performances\, photos with Bluey and Bingo\, and more! All the fun is from 4 - 6 p.m. in Dr. A.J. Chandler Park West.<br />\n<br />\nThis is the kick-off to downtown Chandler&#39\;s festive display. Experience Holiday Magic Featuring Sugarland ?November 29th - December 30th throughout downtown.</span></span></span>
LOCATION:Dr. A.J. Chandler Park West 3 South Arizona Avenue Chandler\, Arizona 85224
UID:e.1561.51906
SEQUENCE:3
DTSTAMP:20260424T063616Z
URL:https://business.chandlerchamber.com/events/details/prancer-s-pajama-party-51906
END:VEVENT

END:VCALENDAR
