BEGIN:VCALENDAR
VERSION:2.0
PRODID:-//ChamberMaster//Event Calendar 2.0//EN
METHOD:PUBLISH
X-PUBLISHED-TTL:P3D
REFRESH-INTERVAL:P3D
CALSCALE:GREGORIAN
BEGIN:VEVENT
DTSTART:20150226T010000Z
DTEND:20150226T030000Z
X-MICROSOFT-CDO-ALLDAYEVENT:FALSE
SUMMARY:Pre-Parade Meeting
DESCRIPTION:Pre-Parade meeting for the Ostrich Festival Parade. Parade entrants will receive their parade packets and information.
X-ALT-DESC;FMTTYPE=text/html:Pre-Parade meeting for the Ostrich Festival Parade. Parade entrants will receive their parade packets and information.
LOCATION:Chandler Chamber of Commerce 25 S. Arizona Place Ste 201 Chandler\, AZ 85225
UID:e.1561.12621
SEQUENCE:3
DTSTAMP:20260426T002504Z
URL:https://business.chandlerchamber.com/events/details/pre-parade-meeting-02-25-2015-12621
END:VEVENT

END:VCALENDAR
