BEGIN:VCALENDAR
VERSION:2.0
PRODID:-//ChamberMaster//Event Calendar 2.0//EN
METHOD:PUBLISH
X-PUBLISHED-TTL:P3D
REFRESH-INTERVAL:P3D
CALSCALE:GREGORIAN
BEGIN:VEVENT
DTSTART:20191022T010000Z
DTEND:20191022T023000Z
X-MICROSOFT-CDO-ALLDAYEVENT:FALSE
SUMMARY:Preparing CUSD Students for the Global Workforce: Beyond College and Career Ready
DESCRIPTION:Educational equity is essential if we are to truly prepare students to engage the diverse workforce waiting for them beyond K-12 and college. What type of employees are employers looking to hire? What characteristics do they possess? Are we preparing all students to take their place in the workforce locally\, nationally and internationally? Intel Public Affairs manager Theresa Niemeyer will share her corporate lens as it relates to equity beyond college and career readiness.
X-ALT-DESC;FMTTYPE=text/html:Educational equity is essential if we are to truly prepare students to engage the diverse workforce waiting for them beyond K-12 and college. What type of employees are employers looking to hire? What characteristics do they possess? Are we preparing all students to take their place in the workforce locally\, nationally and internationally? Intel Public Affairs manager Theresa Niemeyer will share her corporate lens as it relates to equity beyond college and career readiness.
LOCATION:1525 W. Frye Road Chandler AZ 85224
UID:e.1561.37949
SEQUENCE:3
DTSTAMP:20260421T000708Z
URL:https://business.chandlerchamber.com/events/details/preparing-cusd-students-for-the-global-workforce-beyond-college-and-career-ready-37949
END:VEVENT

END:VCALENDAR
