BEGIN:VCALENDAR
VERSION:2.0
PRODID:-//ChamberMaster//Event Calendar 2.0//EN
METHOD:PUBLISH
X-PUBLISHED-TTL:P3D
REFRESH-INTERVAL:P3D
CALSCALE:GREGORIAN
BEGIN:VEVENT
DTSTART:20251115T230000Z
DTEND:20251116T030000Z
X-MICROSOFT-CDO-ALLDAYEVENT:FALSE
SUMMARY:Pride in Chandler
DESCRIPTION:Join us at Chandler Pride 2025 for a fun evening of entertainment\, vendors\, and a celebration of the LGBTQ community you won't want to miss.
X-ALT-DESC;FMTTYPE=text/html:<span style="font-size:16px\;"><span style="font-family:arial\;"><span style="color:#000000\;">Join us at&nbsp\;</span><a href="https://e8id6ffbb.cc.rs6.net/tn.jsp?f=001sfu9_uL21O6th8jh8eEuSel67u3HYnVYFMxZ7U15FYsCaohUnRnTwUVU01CxSxNsMOujn1Dj__erDI4TQDSfPjv-xiFF4Ktv3pPbxrou8xLW9Q7FVKgb2tZRK4wvclIkqSgvtW5F_moHM7ywuKn6Xj7FzkPmmbJ07_QN1EI_1gWrdaW2-QZZVG9EaBPq8RqfEzIZfYPVurw=&amp\;c=_a1WV_wds_wlzIaL-WrXIXLYoRXQCrvkP34G_t4wyi6ZrOpPLfuHJw==&amp\;ch=XLbsrWhDcS5Bn9J5IBWYive8RcXZJUGUbGqNqQbcjvcb6SNbG4pHlQ==" target="_blank"><span style="color:#000000\;"><strong><span style="text-decoration-line:none\;">Chandler Pride 2025</span></strong></span></a><span style="color:#000000\;">&nbsp\;for a fun evening of entertainment\, vendors\, and a celebration of the LGBTQ community you won&rsquo\;t want to miss.&nbsp\;</span></span></span>
LOCATION:Dr. AJ Chandler Park West 3 South Arizona Avenue Chandler\, Arizona 85224
UID:e.1561.51918
SEQUENCE:3
DTSTAMP:20260424T063713Z
URL:https://business.chandlerchamber.com/events/details/pride-in-chandler-51918
END:VEVENT

END:VCALENDAR
