BEGIN:VCALENDAR
VERSION:2.0
PRODID:-//ChamberMaster//Event Calendar 2.0//EN
METHOD:PUBLISH
X-PUBLISHED-TTL:P3D
REFRESH-INTERVAL:P3D
CALSCALE:GREGORIAN
BEGIN:VEVENT
DTSTART:20150930T153000Z
DTEND:20150930T170000Z
X-MICROSOFT-CDO-ALLDAYEVENT:FALSE
SUMMARY:Proft from What We Publish
DESCRIPTION:Do you currently have at least 300+ warm\, qualified sales leads per week? Have you connected with the top 3\,000 business decision makers in the Valley? Would you like to reach out to over 10\,000 top movers and shakers in the Valley? We all need an edge in today?s business market and the Phoenix Business Journal is here to help you! Business professionals will find exceptional value in this stimulating seminar. This seminar will teach sales and marketing professionals how to identify new customers\, grow your business opportunities and increase your bottom line through the Phoenix Business Journal. Join Barbara Barnstead\, Audience Development Executive for an interactive 45 minute seminar that will teach you how to leverage the Phoenix Business Journal for your sales efforts and business leads.
X-ALT-DESC;FMTTYPE=text/html:Do you currently have at least 300+ warm\, qualified sales leads per week? Have you connected with the top 3\,000 business decision makers in the Valley? Would you like to reach out to over 10\,000 top movers and shakers in the Valley? We all need an edge in today?s business market and the Phoenix Business Journal is here to help you! Business professionals will find exceptional value in this stimulating seminar. This seminar will teach sales and marketing professionals how to identify new customers\, grow your business opportunities and increase your bottom line through the Phoenix Business Journal. Join Barbara Barnstead\, Audience Development Executive for an interactive 45 minute seminar that will teach you how to leverage the Phoenix Business Journal for your sales efforts and business leads.
LOCATION:Microsoft Chandler Fashion Center 1st Floor - Park Near Wildflower\, between Macy's and Dillard's
UID:e.1561.13226
SEQUENCE:3
DTSTAMP:20260425T165856Z
URL:https://business.chandlerchamber.com/events/details/proft-from-what-we-publish-09-30-2015-13226
END:VEVENT

END:VCALENDAR
