BEGIN:VCALENDAR
VERSION:2.0
PRODID:-//ChamberMaster//Event Calendar 2.0//EN
METHOD:PUBLISH
X-PUBLISHED-TTL:P3D
REFRESH-INTERVAL:P3D
CALSCALE:GREGORIAN
BEGIN:VEVENT
DTSTART:20190413T220000Z
DTEND:20190414T040000Z
X-MICROSOFT-CDO-ALLDAYEVENT:FALSE
SUMMARY:Providence High School Ground Breaking Community Event
DESCRIPTION:PHS invites you to our groundbreaking community event to check out our NEW HIGH SCHOOL opening AUGUST 2019! This event will be a fun family and pet friendly event featuring United Dance Crew from World of Dance\, Pet Adoptions\, Food Trucks\, and lots of vendor booths!
X-ALT-DESC;FMTTYPE=text/html:PHS invites you to our groundbreaking community event to check out our NEW HIGH SCHOOL opening AUGUST 2019! This event will be a fun family and pet friendly event featuring United Dance Crew from World of Dance\, Pet Adoptions\, Food Trucks\, and lots of vendor booths!
LOCATION:Providence High School 2200 N. Arizona Ave. Chandler\, AZ 85225
UID:e.1561.36629
SEQUENCE:3
DTSTAMP:20260423T045330Z
URL:https://business.chandlerchamber.com/events/details/providence-high-school-ground-breaking-community-event-36629
END:VEVENT

END:VCALENDAR
