BEGIN:VCALENDAR
VERSION:2.0
PRODID:-//ChamberMaster//Event Calendar 2.0//EN
METHOD:PUBLISH
X-PUBLISHED-TTL:P3D
REFRESH-INTERVAL:P3D
CALSCALE:GREGORIAN
BEGIN:VEVENT
DTSTART:20220208T170000Z
DTEND:20220328T000000Z
X-MICROSOFT-CDO-ALLDAYEVENT:FALSE
SUMMARY:Public Objects: Artwork from the City's Permanent Collection
DESCRIPTION:Since the public art ordinance was established in 1983\, the City of Chandler has steadily collected or commissioned artwork from local\, regional\, and national artists. While many people have seen the monuments\, murals\, and sculptures on public view throughout Chandler\, this exhibition aims to highlight the gallery pieces the City of Chandler has acquired through the years. From paintings and photography to ceramics and quilts\, the City's collection is as diverse as its population. Image caption: Dianne Nowicki Still Life 2019\, 2019 acrylic on canvas General Information: chandlermuseum.org Free Admission Tuesday-Saturday 10am-5pm\, Sunday 1-5pm\, Closed Monday East Valley History Center\, Thursdays\, 2-5pm
X-ALT-DESC;FMTTYPE=text/html:Since the public art ordinance was established in 1983\, the City of Chandler has steadily collected or commissioned artwork from local\, regional\, and national artists. While many people have seen the monuments\, murals\, and sculptures on public view throughout Chandler\, this exhibition aims to highlight the gallery pieces the City of Chandler has acquired through the years. From paintings and photography to ceramics and quilts\, the City&rsquo\;s collection is as diverse as its population. Image caption: Dianne Nowicki Still Life 2019\, 2019 acrylic on canvas General Information: chandlermuseum.org Free Admission Tuesday-Saturday 10am-5pm\, Sunday 1-5pm\, Closed Monday East Valley History Center\, Thursdays\, 2-5pm
LOCATION:Chandler Museum 300 S. Chandler Village Drive Chandler\, Arizona 85226
UID:e.1561.40599
SEQUENCE:3
DTSTAMP:20260423T233001Z
URL:https://business.chandlerchamber.com/events/details/public-objects-artwork-from-the-city-s-permanent-collection-40599
END:VEVENT

END:VCALENDAR
