BEGIN:VCALENDAR
VERSION:2.0
PRODID:-//ChamberMaster//Event Calendar 2.0//EN
METHOD:PUBLISH
X-PUBLISHED-TTL:P3D
REFRESH-INTERVAL:P3D
CALSCALE:GREGORIAN
BEGIN:VEVENT
DTSTART:20150123T150000Z
DTEND:20150123T163000Z
X-MICROSOFT-CDO-ALLDAYEVENT:FALSE
SUMMARY:Public Policy
DESCRIPTION:PUBLIC POLICY COMMITTEE MEETING\n\nIssues ? Influence ? Impact\n\n\n\nThe Chandler Chamber Public Policy Meeting is open to all members. The Chandler Chamber of Commerce is your representative on local\, regional and state issues.\n\n\n\nWe discuss issues that are important to the success of your business and the\n\ncommunity.\n\n\n\nThe Chamber's first Public Policy meeting of the year is January 23 featuring Maricopa County Supervisor\, District 1\, Denny Barney. He will be delivering an update on news from Maricopa County. Barney is an Ex-Officio Director of the East Valley Partnership and a former member of Greater Phoenix Leadership. He is also a Past President of the Mesa Baseline Rotary club and has served on the boards of the United Food Bank\, Arizona board of American Indian Services\, Commission on Excellence in Education and various Banner Health Advisory boards.
X-ALT-DESC;FMTTYPE=text/html:<div style="text-align: center\;"><span helvetica="" style="font-size: 16px\; text-align: center\; color: rgb(68\, 68\, 68)\; line-height: 18px\;"><strong>PUBLIC POLICY COMMITTEE MEETING</strong></span></div>\n\n<div style="text-align: center\;"><span helvetica="" style="font-size: 16px\; text-align: center\; color: rgb(68\, 68\, 68)\; line-height: 18px\;"><strong>Issues ? Influence ? Impact</strong></span><br helvetica="" style="font-size: 16px\; text-align: center\; color: rgb(68\, 68\, 68)\; line-height: 18px\;" />\n<br helvetica="" style="font-size: 16px\; text-align: center\; color: rgb(68\, 68\, 68)\; line-height: 18px\;" />\n<span helvetica="" style="font-size: 16px\; text-align: center\; color: rgb(68\, 68\, 68)\; line-height: 18px\;">The Chandler Chamber Public Policy Meeting is open to all members. The Chandler Chamber&nbsp\;of Commerce is your representative on local\, regional and state issues.<br />\n<br />\nWe discuss issues that are important to the success of your business and the<br />\ncommunity.</span><br />\n<br />\n<span style="color:black\;"><span style="font-family:arial\,sans-serif\;"><span style="font-size:12.0pt\;">The Chamber&#39\;s first Public Policy meeting of the year is January 23 featuring <u><strong>Maricopa County Supervisor\, District 1\, Denny Barney</strong></u>. He will be delivering an update on news from Maricopa County. Barney is an Ex-Officio Director of the East Valley Partnership and a former member of Greater Phoenix Leadership. He is also a Past President of the Mesa Baseline Rotary club and has served on the boards of the United Food Bank\, Arizona board of American Indian Services\, Commission on Excellence in Education and various Banner Health Advisory boards.</span></span></span></div>\n
LOCATION:Chandler Chamber 25 S. Arizona Place Suite 201 Chandler\, AZ 85225
UID:e.1561.11930
SEQUENCE:3
DTSTAMP:20260426T014156Z
URL:https://business.chandlerchamber.com/events/details/public-policy-01-23-2015-11930
END:VEVENT

END:VCALENDAR
