BEGIN:VCALENDAR
VERSION:2.0
PRODID:-//ChamberMaster//Event Calendar 2.0//EN
METHOD:PUBLISH
X-PUBLISHED-TTL:P3D
REFRESH-INTERVAL:P3D
CALSCALE:GREGORIAN
BEGIN:VEVENT
DTSTART:20150327T150000Z
DTEND:20150328T043000Z
X-MICROSOFT-CDO-ALLDAYEVENT:FALSE
SUMMARY:Public Policy
DESCRIPTION:The Chandler Chamber Public Policy Meeting is open to all members. The Chandler Chamber of Commerce is your representative on local\, regional and state issues. We discuss issues that are important to the success of your business and the community.\n\n\n\nSpeaker: Senator Jeff Dial and Representative Jill Norgaard
X-ALT-DESC;FMTTYPE=text/html:The Chandler Chamber Public Policy Meeting is open to all members. The Chandler Chamber&nbsp\;of Commerce is your representative on local\, regional and state issues. We discuss issues that are important to the success of your business and the community.<br />\n<br />\n<strong><u><span style="font-family:arial\,sans-serif\;"><span style="font-size:10pt\;">Speaker: Senator Jeff Dial and Representative Jill Norgaard</span></span></u></strong>
LOCATION:Chandler Chamber of Commerce 25 South Arizona Place Suite 201 Chandler\, AZ 85225
UID:e.1561.12338
SEQUENCE:3
DTSTAMP:20260425T224639Z
URL:https://business.chandlerchamber.com/events/details/public-policy-03-27-2015-12338
END:VEVENT

END:VCALENDAR
