BEGIN:VCALENDAR
VERSION:2.0
PRODID:-//ChamberMaster//Event Calendar 2.0//EN
METHOD:PUBLISH
X-PUBLISHED-TTL:P3D
REFRESH-INTERVAL:P3D
CALSCALE:GREGORIAN
BEGIN:VEVENT
DTSTART:20150424T150000Z
DTEND:20150424T163000Z
X-MICROSOFT-CDO-ALLDAYEVENT:FALSE
SUMMARY:Public Policy
DESCRIPTION:The Chandler Chamber Public Policy Meeting is open to all members. The Chandler Chamber of Commerce is your representative on local\, regional and state issues. We discuss issues that are important to the success of your business and the community.\n\n\n\nSpeaker: Brock Barnhart\, Assistant Communications Director for ADOT and Chief Duggan from the Chandler Police Department.  \n\nTopic: 202 Freeway Update\, City update
X-ALT-DESC;FMTTYPE=text/html:The Chandler Chamber Public Policy Meeting is open to all members. The Chandler Chamber&nbsp\;of Commerce is your representative on local\, regional and state issues. We discuss issues that are important to the success of your business and the community.<br />\n<br />\n<span style="font-family: arial\,sans-serif\;"><span style="font-size: 10pt\;">Speaker: Brock Barnhart\, Assistant Communications Director for ADOT and Chief Duggan from the Chandler Police Department.</span></span><strong><span style="font-family: arial\,sans-serif\;"><span style="font-size: 10pt\;">&nbsp\;&nbsp\;</span></span></strong><br />\n<span style="line-height: 20.79px\; font-family: arial\, sans-serif\;"><span style="font-size: 10pt\;">Topic:&nbsp\;</span></span><span style="line-height: 20.79px\;">202 Freeway Update\, City update</span><br />\n&nbsp\;
LOCATION:Chandler Chamber of Commerce 25 South Arizona Place Suite 201 Chandler\, AZ 85225
UID:e.1561.12339
SEQUENCE:3
DTSTAMP:20260425T225951Z
URL:https://business.chandlerchamber.com/events/details/public-policy-04-24-2015-12339
END:VEVENT

END:VCALENDAR
