BEGIN:VCALENDAR
VERSION:2.0
PRODID:-//ChamberMaster//Event Calendar 2.0//EN
METHOD:PUBLISH
X-PUBLISHED-TTL:P3D
REFRESH-INTERVAL:P3D
CALSCALE:GREGORIAN
BEGIN:VEVENT
DTSTART:20150911T150000Z
DTEND:20150911T163000Z
X-MICROSOFT-CDO-ALLDAYEVENT:FALSE
SUMMARY:Public Policy
DESCRIPTION:The Chandler Chamber Public Policy Meeting is open to all members. The Chandler Chamber of Commerce is your representative on local\, regional and state issues. We discuss issues that are important to the success of your business and the community.\n\n\n\nTopic: \n\nDowntown Redevelopment Update\n\n\n\nJoin us to hear what's happening with development in downtown Chandler and learn more about what's to come.\n\n\n\nSpeakers:\n\nKim Moyers\, Downtown Redevelopment Manager\n\nCity of Chandler\n\n\n\nDanielle Wells\, Revenue Collections Supervisor\n\nCity of Chandler\n\n\n\nMatt Dunbar\, Revenue & Tax Manager\n\nCity of Chandler
X-ALT-DESC;FMTTYPE=text/html:<div><span style="font-size:14px\;"><span style="line-height: 20.7999992370605px\;">The Chandler Chamber Public Policy Meeting is open to all members. The Chandler Chamber&nbsp\;of Commerce is your representative on local\, regional and state issues. We discuss issues that are important to the success of your business and the community.</span></span></div>\n\n<div><br />\n<span style="font-size:14px\;"><span style="line-height: 20.7999992370605px\;"><strong>Topic: </strong><br />\nDowntown Redevelopment Update<br />\n<br />\n<em>Join us to hear what&#39\;s happening with development in downtown Chandler and learn more about what&#39\;s to come.</em></span></span><br />\n<br />\n<span style="font-size:14px\;"><strong>Speakers:</strong><br />\n<span style="line-height: 20.7999992370605px\;">Kim Moyers\, Downtown Redevelopment Manager</span><br />\nCity of Chandler<br />\n<br />\nDanielle Wells\, Revenue Collections Supervisor<br />\nCity of Chandler<br />\n<br />\nMatt Dunbar\, Revenue &amp\; Tax Manager<br />\nCity of Chandler</span></div>\n
LOCATION:Chandler Chamber of Commerce 25 South Arizona Place Suite 201 Chandler\, AZ 85225
UID:e.1561.13134
SEQUENCE:3
DTSTAMP:20260425T165717Z
URL:https://business.chandlerchamber.com/events/details/public-policy-09-11-2015-13134
END:VEVENT

END:VCALENDAR
