BEGIN:VCALENDAR
VERSION:2.0
PRODID:-//ChamberMaster//Event Calendar 2.0//EN
METHOD:PUBLISH
X-PUBLISHED-TTL:P3D
REFRESH-INTERVAL:P3D
CALSCALE:GREGORIAN
BEGIN:VEVENT
DTSTART:20150925T150000Z
DTEND:20150925T163000Z
X-MICROSOFT-CDO-ALLDAYEVENT:FALSE
SUMMARY:Public Policy
DESCRIPTION:The Chandler Chamber Public Policy Meeting is open to all members. The Chandler Chamber of Commerce is your representative on local\, regional and state issues. We discuss issues that are important to the success of your business and the community.\n\n\n\nTopic: \n\nLegislative Update\n\n\n\nElected officials will be giving updates on what they've been working on\, successes they've had\, and challenges they've faced with recent efforts.\n\n\n\nSpeakers: \n\n\n	Senator Jeff Dial\n	Representative J.D. Mesnard\n	Representative Jill Norgaard\n	Representative Jeff Weninger
X-ALT-DESC;FMTTYPE=text/html:<span style="font-size:14px\;">The Chandler Chamber Public Policy Meeting is open to all members. The Chandler Chamber&nbsp\;of Commerce is your representative on local\, regional and state issues. We discuss issues that are important to the success of your business and the community.<br />\n<br />\n<font face="arial\, sans-serif"><span style="line-height: 21.3333320617676px\;"><strong>Topic: </strong><br />\nLegislative Update</span></font><br />\n<br />\n<em>Elected officials will be giving updates on what they&rsquo\;ve been working on\, successes they&rsquo\;ve had\, and challenges they&rsquo\;ve faced with recent efforts.</em><br />\n<br />\n<strong>Speakers:&nbsp\;</strong></span>\n\n<ul>\n	<li><span style="font-size:14px\;">Senator Jeff Dial</span></li>\n	<li><span style="font-size:14px\;">Representative J.D. Mesnard</span></li>\n	<li><span style="font-size:14px\;">Representative Jill&nbsp\;Norgaard</span></li>\n	<li><span style="font-size:14px\;">Representative Jeff&nbsp\;Weninger</span></li>\n</ul>\n<br />\n<br />\n<br />\n&nbsp\;
LOCATION:Chandler Chamber of Commerce 25 South Arizona Place Suite 201 Chandler\, AZ 85225
UID:e.1561.12344
SEQUENCE:3
DTSTAMP:20260425T165651Z
URL:https://business.chandlerchamber.com/events/details/public-policy-09-25-2015-12344
END:VEVENT

END:VCALENDAR
