BEGIN:VCALENDAR
VERSION:2.0
PRODID:-//ChamberMaster//Event Calendar 2.0//EN
METHOD:PUBLISH
X-PUBLISHED-TTL:P3D
REFRESH-INTERVAL:P3D
CALSCALE:GREGORIAN
BEGIN:VEVENT
DTSTART:20200124T150000Z
DTEND:20200124T163000Z
X-MICROSOFT-CDO-ALLDAYEVENT:FALSE
SUMMARY:Public Policy Series
DESCRIPTION:For members only.\n\nThe Chandler Chamber of Commerce is your representative on local\, regional and state issues. We discuss issues that are important to the success of your business and the community.\n\n\n\n"Workforce Development & Pipeline Issues"\n\nWith Representatives Walter Blackman & Ben Toma\, Aric Bopp\, Executive Director for Economic Development\, ASU and Michael Wisehart\, Deputy Director of the Department of Economic Security.
X-ALT-DESC;FMTTYPE=text/html:<p>For members only.</p>\n\n<p>The Chandler Chamber&nbsp\;of Commerce is your representative on local\, regional and state issues. We discuss issues that are important to the success of your business and the community.<br />\n<br />\n<span style="font-weight:bold\;language:en-US\;"><span style="font-family:arial\;">&ldquo\;Workforce Development &amp\; Pipeline Issues&rdquo\;</span></span><br />\n<span style="language:en-US\;"><span style="font-family:arial\;">With Representatives Walter Blackman &amp\; Ben Toma\, Aric Bopp\, Executive Director for Economic Development\, ASU and Michael Wisehart\, Deputy&nbsp\;Director of the Department of Economic Security.</span></span><br />\n&nbsp\;</p>\n
LOCATION:Chandler Chamber of Commerce 25 South Arizona Place Suite 201 Chandler\, AZ 85225
UID:e.1561.12396
SEQUENCE:3
DTSTAMP:20260420T151746Z
URL:https://business.chandlerchamber.com/events/details/public-policy-series-01-24-2020-12396
END:VEVENT

END:VCALENDAR
