BEGIN:VCALENDAR
VERSION:2.0
PRODID:-//ChamberMaster//Event Calendar 2.0//EN
METHOD:PUBLISH
X-PUBLISHED-TTL:P3D
REFRESH-INTERVAL:P3D
CALSCALE:GREGORIAN
BEGIN:VEVENT
DTSTART:20180824T150000Z
DTEND:20180824T163000Z
X-MICROSOFT-CDO-ALLDAYEVENT:FALSE
SUMMARY:Public Policy Series
DESCRIPTION:The Chandler Chamber Public Policy Series is open to all members. The Chandler Chamber of Commerce is your representative on local\, regional and state issues. We discuss issues that are important to the success of your business and the community.\n\nTopic: Healthcare \n\nSpeakers:\n\nShirley Gunther VP of External Affairs\, Dignity Health\n\nDr. Marc Osborn\, Senior Dirctor of Governement Affairs\, Kutak Rock LLP.
X-ALT-DESC;FMTTYPE=text/html:<p>The Chandler Chamber Public Policy Series is open to all members. The Chandler Chamber&nbsp\;of Commerce is your representative on local\, regional and state issues. We discuss issues that are important to the success of your business and the community.<br />\n<strong style="color: rgb(51\, 51\, 51)\; font-family: sans-serif\, Arial\, Verdana\, &quot\;Trebuchet MS&quot\;\; font-size: 13px\;">Topic</strong><span style="color: rgb(51\, 51\, 51)\; font-family: sans-serif\, Arial\, Verdana\, &quot\;Trebuchet MS&quot\;\; font-size: 13px\; background-color: rgb(255\, 255\, 255)\;">: Healthcare&nbsp\;</span><br style="color: rgb(51\, 51\, 51)\; font-family: sans-serif\, Arial\, Verdana\, &quot\;Trebuchet MS&quot\;\; font-size: 13px\;" />\n<strong style="color: rgb(51\, 51\, 51)\; font-family: sans-serif\, Arial\, Verdana\, &quot\;Trebuchet MS&quot\;\; font-size: 13px\;">Speakers</strong><span style="color: rgb(51\, 51\, 51)\; font-family: sans-serif\, Arial\, Verdana\, &quot\;Trebuchet MS&quot\;\; font-size: 13px\; background-color: rgb(255\, 255\, 255)\;">:</span><br style="color: rgb(51\, 51\, 51)\; font-family: sans-serif\, Arial\, Verdana\, &quot\;Trebuchet MS&quot\;\; font-size: 13px\;" />\n<span style="color: rgb(51\, 51\, 51)\; font-family: sans-serif\, Arial\, Verdana\, &quot\;Trebuchet MS&quot\;\; font-size: 13px\; background-color: rgb(255\, 255\, 255)\;">Shirley Gunther VP of External Affairs\, Dignity Health</span><br style="color: rgb(51\, 51\, 51)\; font-family: sans-serif\, Arial\, Verdana\, &quot\;Trebuchet MS&quot\;\; font-size: 13px\;" />\n<span style="color: rgb(51\, 51\, 51)\; font-family: sans-serif\, Arial\, Verdana\, &quot\;Trebuchet MS&quot\;\; font-size: 13px\; background-color: rgb(255\, 255\, 255)\;">Dr. Marc Osborn\,&nbsp\;Senior Dirctor of Governement Affairs\, Kutak Rock LLP.</span><br />\n<br />\n&nbsp\;</p>\n
LOCATION:Chandler Chamber of Commerce 25 South Arizona Place Suite 201 Chandler\, AZ 85225
UID:e.1561.12379
SEQUENCE:3
DTSTAMP:20260423T135548Z
URL:https://business.chandlerchamber.com/events/details/public-policy-series-08-24-2018-12379
END:VEVENT

END:VCALENDAR
