BEGIN:VCALENDAR
VERSION:2.0
PRODID:-//ChamberMaster//Event Calendar 2.0//EN
METHOD:PUBLISH
X-PUBLISHED-TTL:P3D
REFRESH-INTERVAL:P3D
CALSCALE:GREGORIAN
BEGIN:VEVENT
DTSTART:20170825T150000Z
DTEND:20170825T163000Z
X-MICROSOFT-CDO-ALLDAYEVENT:FALSE
SUMMARY:Public Policy Series
DESCRIPTION:Join us when representatives from ADOT will be presenting a general Valley update for Chandler and the surrounding areas.  They will also be talking about the changes taking place in the Motor Vehicles Division.\n\n\n\nThe Chandler Chamber Public Policy Series is open to all members. We are your representative on local\, regional and state issues. We discuss issues that are important to the success of your business and the community.
X-ALT-DESC;FMTTYPE=text/html:<p><strong>Join us when representatives from ADOT will be presenting a general Valley update for Chandler and the surrounding areas.&nbsp\; They will also be talking about the changes&nbsp\;taking place in the Motor Vehicles Division.</strong><br />\n<br />\nThe Chandler Chamber Public Policy Series is open to all members. We are your representative on local\, regional and state issues. We discuss issues that are important to the success of your business and the community.<br />\n&nbsp\;</p>\n\n<p>&nbsp\;</p>\n
LOCATION:Chandler Chamber of Commerce 25 South Arizona Place Suite 201 Chandler\, AZ 85225
UID:e.1561.12367
SEQUENCE:3
DTSTAMP:20260424T063652Z
URL:https://business.chandlerchamber.com/events/details/public-policy-series-08-25-2017-12367
END:VEVENT

END:VCALENDAR
