BEGIN:VCALENDAR
VERSION:2.0
PRODID:-//ChamberMaster//Event Calendar 2.0//EN
METHOD:PUBLISH
X-PUBLISHED-TTL:P3D
REFRESH-INTERVAL:P3D
CALSCALE:GREGORIAN
BEGIN:VEVENT
DTSTART:20170922T150000Z
DTEND:20170922T163000Z
X-MICROSOFT-CDO-ALLDAYEVENT:FALSE
SUMMARY:Public Policy Series
DESCRIPTION:The Chandler Chamber Public Policy Series is open to all members. The Chandler Chamber of Commerce is your representative on local\, regional and state issues. We discuss issues that are important to the success of your business and the community.\n\n\n\nSpeaker:\n\nSeptember 22nd features Secretary of State\, Michele Reagan\, giving an update on voter registration and outreach and new efficiencies she has put in place.\n\nArizona's 20th Secretary of State\, Michele Reagan has transformed an antiquated paper-based bureaucracy into an efficient digital state agency in less than three years.   Her work to transform the Department of State has made it easier to start and run a business and she has improved public access to everything from political contributions to genealogical records.  Her efforts have earned her a leading role on the National Election Cybersecurity Task Force as a member of the Association of Secretaries of State as well as the Executive Board of the Lieutenant Governor's Association. \n\nBefore her election to the state's 2nd highest elective office\, her experience running a small business led her to serve in state legislature where she was named Chair of the House Commerce Committee and later selected to lead the Elections Committee in the Senate where she fought to improve election integrity and ballot security.
X-ALT-DESC;FMTTYPE=text/html:<p>The Chandler Chamber Public Policy Series is open to all members. The Chandler Chamber&nbsp\;of Commerce is your representative on local\, regional and state issues. We discuss issues that are important to the success of your business and the community.<br />\n<br />\n<strong><span style="font-family:arial\,sans-serif\;"><span style="font-size:10pt\;">Speaker:<br />\nSeptember 22nd features Secretary of State\, Michele Reagan\, giving an update on voter registration and outreach and new efficiencies she has put in place.</span></span></strong><br />\n<span style="font-family:calibri\,sans-serif\;"><span style="font-size:11.0pt\;">Arizona&rsquo\;s 20th Secretary of State\, Michele Reagan has transformed an antiquated paper-based bureaucracy into an efficient digital state agency in less than three years.&nbsp\;&nbsp\; Her work to transform the Department of State has made it easier to start and run a business and she has improved public access to everything from political contributions to genealogical records.&nbsp\; Her efforts have earned her a leading role on the National Election Cybersecurity Task Force as a member of the Association of Secretaries of State as well as the Executive Board of the Lieutenant Governor&rsquo\;s Association.</span></span>&nbsp\;<br />\n<span style="font-family:calibri\,sans-serif\;"><span style="font-size:11.0pt\;">Before her election to the state&rsquo\;s 2nd highest elective office\, her experience running a small business led her to serve in state legislature where she was named Chair of the House Commerce Committee and later selected to lead the Elections Committee in the Senate where she fought to improve election integrity and ballot security.</span></span></p>\n
LOCATION:Chandler Chamber of Commerce 25 South Arizona Place Suite 201 Chandler\, AZ 85225
UID:e.1561.12368
SEQUENCE:3
DTSTAMP:20260424T051002Z
URL:https://business.chandlerchamber.com/events/details/public-policy-series-09-22-2017-12368
END:VEVENT

END:VCALENDAR
