BEGIN:VCALENDAR
VERSION:2.0
PRODID:-//ChamberMaster//Event Calendar 2.0//EN
METHOD:PUBLISH
X-PUBLISHED-TTL:P3D
REFRESH-INTERVAL:P3D
CALSCALE:GREGORIAN
BEGIN:VEVENT
DTSTART:20171027T150000Z
DTEND:20171027T163000Z
X-MICROSOFT-CDO-ALLDAYEVENT:FALSE
SUMMARY:Public Policy Series
DESCRIPTION:The Chandler Chamber Public Policy Series is open to all members. The Chandler Chamber of Commerce is your representative on local\, regional and state issues. We discuss issues that are important to the success of your business and the community.\n\n\n\nSpeakers: \n\nSenate President Steve Yarbrough will give a Legislative update.\n\nCandice Copple\, Chief of Staff for Chairman Denny Barney will give an update on Maricopa County.
X-ALT-DESC;FMTTYPE=text/html:<p><span style="font-size:16px\;"><span style="font-family:arial\;">The Chandler Chamber Public Policy Series is open to all members. The Chandler Chamber&nbsp\;of Commerce is your representative on local\, regional and state issues. We discuss issues that are important to the success of your business and the community.<br />\n<br />\n<strong>Speakers: </strong></span></span></p>\n\n<p><span style="font-size:16px\;"><span style="font-family:arial\;"><strong>Senate President Steve Yarbrough</strong> will give a Legislative update.<br />\n<strong>Candice Copple</strong>\, Chief of Staff for Chairman Denny Barney will give an update on Maricopa County.</span></span></p>\n
LOCATION:Chandler Chamber of Commerce 25 South Arizona Place Suite 201 Chandler\, AZ 85225
UID:e.1561.12369
SEQUENCE:3
DTSTAMP:20260424T051003Z
URL:https://business.chandlerchamber.com/events/details/public-policy-series-10-27-2017-12369
END:VEVENT

END:VCALENDAR
