BEGIN:VCALENDAR
VERSION:2.0
PRODID:-//ChamberMaster//Event Calendar 2.0//EN
METHOD:PUBLISH
X-PUBLISHED-TTL:P3D
REFRESH-INTERVAL:P3D
CALSCALE:GREGORIAN
BEGIN:VEVENT
DTSTART:20170811T150000Z
DTEND:20170811T163000Z
X-MICROSOFT-CDO-ALLDAYEVENT:FALSE
SUMMARY:Public Policy Series
DESCRIPTION:The Chandler Chamber of Commerce is your representative on local\, regional and state issues. We discuss issues that are important to the success of your business and the community.\n\nArizona Speaker of the House\, J.D. Mesnard\, will give a preview of the 2018 Legislative Session.  Also\, the citizen's group\, YSOS will be speaking on the Tempe Union High School District Override. Speakers include:\n\nDr. Kenneth Baca   Superintendent\n\nDr. Kevin Mendivil   Associate Superintendent\n\nDiane Meulemans   Associate Superintendent\n\nBeth Brizel   YSOS co-chair
X-ALT-DESC;FMTTYPE=text/html:<p><span style="font-family:arial\;">&nbsp\;The Chandler Chamber&nbsp\;of Commerce is your representative on local\, regional and state issues. We discuss issues that are important to the success of your business and the community.</span><br />\n<span style="font-size:14px\;"><span style="font-size:12px\;"><span style="font-weight:bold\;language:en-US\;">Arizona Speaker of the House\, J.D. Mesnard\, will give a preview of the 2018 Legislative Session.&nbsp\;</span></span></span><span style="font-size:14px\;"><span style="font-size:12px\;"><span style="font-weight:bold\;language:en-US\;"> Also\, the citizen&rsquo\;s group\, </span></span></span><span style="font-family:arial\;"><span style="font-size:12px\;"><span style="font-weight:bold\;language:en-US\;">YSOS</span></span><span style="font-size:12px\;"><span style="font-weight:bold\;language:en-US\;"> will be speaking on the Tempe Union High School District Override. Speakers include:</span></span><br />\nDr. Kenneth Baca &ndash\; Superintendent<br />\nDr. Kevin Mendivil &ndash\; Associate Superintendent<br />\nDiane Meulemans &ndash\; Associate Superintendent<br />\nBeth Brizel &ndash\; </span><span style="font-family:comic sans ms\;"><span style="font-family:arial\;">YSOS</span></span><span style="font-family:arial\;"> co-chair</span><br />\n<br />\n<span style="font-family:tahoma\;"><span style="font-size:12px\;">&nbsp\;<br />\n<br />\n&nbsp\;</span></span></p>\n
LOCATION:Chandler Chamber of Commerce 25 South Arizona Place Suite 201 Chandler\, AZ 85225
UID:e.1561.17759
SEQUENCE:3
DTSTAMP:20260424T063713Z
URL:https://business.chandlerchamber.com/events/details/public-policy-series-17759
END:VEVENT

END:VCALENDAR
