BEGIN:VCALENDAR
VERSION:2.0
PRODID:-//ChamberMaster//Event Calendar 2.0//EN
METHOD:PUBLISH
X-PUBLISHED-TTL:P3D
REFRESH-INTERVAL:P3D
CALSCALE:GREGORIAN
BEGIN:VEVENT
DTSTART:20170908T150000Z
DTEND:20170908T163000Z
X-MICROSOFT-CDO-ALLDAYEVENT:FALSE
SUMMARY:Public Policy Series
DESCRIPTION:The Chandler Chamber of Commerce is your representative on local\, regional and state issues. We discuss issues that are important to the success of your business and the community.\n\n\n\n\n\nSpeakers:  Dawn Lang\, City of Chandler Management Services Director\, will talk about Business Registration.  \n\nGarrick Taylor from the AZ Chamber will give an update.
X-ALT-DESC;FMTTYPE=text/html:<p>&nbsp\;The Chandler Chamber&nbsp\;of Commerce is your representative on local\, regional and state issues. We discuss issues that are important to the success of your business and the community.<br />\n<br />\n<br />\n<span style="font-size:14px\;"><span style="font-family:calibri\;"><strong>Speakers:&nbsp\; </strong>Dawn Lang\, City of Chandler Management&nbsp\;Services Director\, will talk about Business Registration.&nbsp\; </span></span></p>\n\n<p><span style="font-size:14px\;"><span style="font-family:calibri\;">Garrick Taylor from the AZ Chamber will give an update.</span></span><br />\n&nbsp\;<br />\n<br />\n&nbsp\;</p>\n
LOCATION:Chandler Chamber of Commerce 25 South Arizona Place Suite 201 Chandler\, AZ 85225
UID:e.1561.17760
SEQUENCE:3
DTSTAMP:20260424T050735Z
URL:https://business.chandlerchamber.com/events/details/public-policy-series-17760
END:VEVENT

END:VCALENDAR
