BEGIN:VCALENDAR
VERSION:2.0
PRODID:-//ChamberMaster//Event Calendar 2.0//EN
METHOD:PUBLISH
X-PUBLISHED-TTL:P3D
REFRESH-INTERVAL:P3D
CALSCALE:GREGORIAN
BEGIN:VEVENT
DTSTART:20171013T150000Z
DTEND:20171013T163000Z
X-MICROSOFT-CDO-ALLDAYEVENT:FALSE
SUMMARY:Public Policy Series
DESCRIPTION:The Chandler Chamber of Commerce is your representative on local\, regional and state issues. We discuss issues that are important to the success of your business and the community.\n\n\n\nSpeakers:\n\nJeff McBee from Dignity Healthcare will talk about the new tower at Dignity Health Chandler Regional Hospital.\n\n\n\nSenator Sean Bowie will give a Legislative update.
X-ALT-DESC;FMTTYPE=text/html:<p><span style="font-size:16px\;">&nbsp\;The Chandler Chamber&nbsp\;of Commerce is your representative on local\, regional and state issues. We discuss issues that are important to the success of your business and the community.<br />\n<br />\n<font face="arial"><em>Speakers:</em><br />\n<strong>Jeff McBee</strong> from Dignity Healthcare will talk about the new tower at Dignity Health Chandler Regional Hospital.</font><br />\n<br />\n<strong>Senator Sean Bowie</strong> will give a Legislative update.<br />\n&nbsp\;</span><br />\n&nbsp\;</p>\n
LOCATION:Chandler Chamber of Commerce 25 South Arizona Place Suite 201 Chandler\, AZ 85225
UID:e.1561.17761
SEQUENCE:3
DTSTAMP:20260424T050734Z
URL:https://business.chandlerchamber.com/events/details/public-policy-series-17761
END:VEVENT

END:VCALENDAR
