BEGIN:VCALENDAR
VERSION:2.0
PRODID:-//ChamberMaster//Event Calendar 2.0//EN
METHOD:PUBLISH
X-PUBLISHED-TTL:P3D
REFRESH-INTERVAL:P3D
CALSCALE:GREGORIAN
BEGIN:VEVENT
DTSTART:20170609T150000Z
DTEND:20170609T163000Z
X-MICROSOFT-CDO-ALLDAYEVENT:FALSE
SUMMARY:Public Policy Series
DESCRIPTION:The Chandler Chamber of Commerce is your representative on local\, regional and state issues. We discuss issues that are important to the success of your business and the community.\n\nSpeakers:\n\nDorn Policy Group - Legislative update\n\nJim Bishop\, CUSD -  Override Election
X-ALT-DESC;FMTTYPE=text/html:&nbsp\;The Chandler Chamber&nbsp\;of Commerce is your representative on local\, regional and state issues. We discuss issues that are important to the success of your business and the community.<br />\n<strong>Speakers:</strong><br />\nDorn Policy Group - Legislative update<br />\nJim Bishop\, CUSD&nbsp\;-&nbsp\; Override Election<br />\n<br />\n&nbsp\;
LOCATION:Chandler Chamber of Commerce 25 South Arizona Place Suite 201 Chandler\, AZ 85225
UID:e.1561.19036
SEQUENCE:3
DTSTAMP:20260424T105531Z
URL:https://business.chandlerchamber.com/events/details/public-policy-series-19036
END:VEVENT

END:VCALENDAR
