BEGIN:VCALENDAR
VERSION:2.0
PRODID:-//ChamberMaster//Event Calendar 2.0//EN
METHOD:PUBLISH
X-PUBLISHED-TTL:P3D
REFRESH-INTERVAL:P3D
CALSCALE:GREGORIAN
BEGIN:VEVENT
DTSTART:20171208T150000Z
DTEND:20171208T163000Z
X-MICROSOFT-CDO-ALLDAYEVENT:FALSE
SUMMARY:Public Policy Series
DESCRIPTION:Rustyn Sherer\, APS East Valley Community Affairs Manager will talk about APS sustainability and give an energy update.\n\nAaron Dock with SRP\, AEIC Committee 1st Vice Chair\, will be talking about some current research at SRP\, mainly in the technology realm.  He'll cover electric vehicles\, solar\, battery storage\, thermostats\, Time-of-Use price plans\, and other ways that SRP\, as a utility\, manages the peak.
X-ALT-DESC;FMTTYPE=text/html:<p><big><span style="font-family:tahoma\;"><span style="font-size:14px\;"><span style="color:#1F497D\;">Rustyn Sherer\, APS&nbsp\;East Valley Community Affairs Manager will talk about APS&nbsp\;sustainability and give an energy update.</span></span></span></big></p>\n\n<p><big><span style="font-family:tahoma\;"><span style="font-size:14px\;"><span style="color:#1F497D\;">Aaron Dock with SRP\, AEIC&nbsp\;Committee 1st&nbsp\;Vice Chair\, will&nbsp\;</span></span></span></big><span style="color: rgb(31\, 73\, 125)\; font-family: tahoma\; font-size: 14px\;">be talking about some current research at&nbsp\;</span>SRP<span style="color: rgb(31\, 73\, 125)\; font-family: tahoma\; font-size: 14px\;">\, mainly in the technology realm.&nbsp\; He&#39\;ll cover electric vehicles\, solar\, battery storage\, thermostats\, Time-of-Use price plans\, and other ways that SRP\,&nbsp\;as a utility\, manages the peak.&nbsp\;&nbsp\;</span></p>\n
LOCATION:Chandler Chamber of Commerce 25 South Arizona Place Suite 201 Chandler\, AZ 85225
UID:e.1561.19167
SEQUENCE:3
DTSTAMP:20260424T021933Z
URL:https://business.chandlerchamber.com/events/details/public-policy-series-19167
END:VEVENT

END:VCALENDAR
