BEGIN:VCALENDAR
VERSION:2.0
PRODID:-//ChamberMaster//Event Calendar 2.0//EN
METHOD:PUBLISH
X-PUBLISHED-TTL:P3D
REFRESH-INTERVAL:P3D
CALSCALE:GREGORIAN
BEGIN:VEVENT
DTSTART:20180413T150000Z
DTEND:20180413T163000Z
X-MICROSOFT-CDO-ALLDAYEVENT:FALSE
SUMMARY:Public Policy Series
DESCRIPTION:The Chandler Chamber Public Policy Series is open to all members. The Chandler Chamber of Commerce is your representative on local\, regional and state issues. We discuss issues that are important to the success of your business and the community.\n\n\n\nSpeakers:\n\nJeff Weninger\, Legislative District 17 Representative\n\nMichele Reagan\, Arizona Secretary of State\n\nDawn Lang\, Management Services Director\, City of Chandler - Home Rule Ballot Initiative Update
X-ALT-DESC;FMTTYPE=text/html:<p><big><span style="font-family: tahoma\;"><span style="font-size: 14px\;"><span style="color: rgb(31\, 73\, 125)\;">&#8203\;</span></span></span></big><span style="color: rgb(63\, 63\, 63)\; font-family: &quot\;Helvetica Neue&quot\;\, Helvetica\, Arial\, sans-serif\; font-size: 14px\;">The Chandler Chamber Public Policy Series is open to all members. The Chandler Chamber&nbsp\;of Commerce is your representative on local\, regional and state issues. We discuss issues that are important to the success of your business and the community.</span><br style="margin: 0px\; padding: 0px\; border-radius: 0px\; border: currentColor\; border-image: none\; left: auto\; top: auto\; width: auto\; height: auto\; right: auto\; bottom: auto\; color: rgb(63\, 63\, 63)\; line-height: inherit\; overflow: visible\; clear: none\; font-family: &quot\;Helvetica Neue&quot\;\, Helvetica\, Arial\, sans-serif\; font-size: 14px\; vertical-align: baseline\; float: none\; display: inline\; visibility: inherit\; border-collapse: separate\; position: static\; z-index: auto\; table-layout: auto\; direction: inherit\; -ms-word-break: inherit\; -ms-word-wrap: inherit\; -ms-text-overflow: clip\; max-height: none\; max-width: none\; content: normal\; box-sizing: content-box\; empty-cells: show\; font-stretch: inherit\; opacity: 1\; background-image: none\; resize: none\; outline-offset: 0px\; font-variant-numeric: inherit\; font-variant-east-asian: inherit\;" />\n<br />\nSpeakers:<br />\nJeff Weninger\, Legislative District 17 Representative<br />\nMichele Reagan\, Arizona Secretary of State<br />\nDawn Lang\, Management Services Director\, City of Chandler - Home Rule Ballot Initiative Update<br />\n&nbsp\;</p>\n
LOCATION:Chandler Chamber of Commerce 25 South Arizona Place Suite 201 Chandler\, AZ 85225
UID:e.1561.20509
SEQUENCE:3
DTSTAMP:20260423T193041Z
URL:https://business.chandlerchamber.com/events/details/public-policy-series-20509
END:VEVENT

END:VCALENDAR
