BEGIN:VCALENDAR
VERSION:2.0
PRODID:-//ChamberMaster//Event Calendar 2.0//EN
METHOD:PUBLISH
X-PUBLISHED-TTL:P3D
REFRESH-INTERVAL:P3D
CALSCALE:GREGORIAN
BEGIN:VEVENT
DTSTART:20180810T150000Z
DTEND:20180810T163000Z
X-MICROSOFT-CDO-ALLDAYEVENT:FALSE
SUMMARY:Public Policy Series
DESCRIPTION:The Chandler Chamber Public Policy Series is open to all members. The Chandler Chamber of Commerce is your representative on local\, regional and state issues. We discuss issues that are important to the success of your business and the community.\n\n\n\nSpeakers:\n\nSenator Sean Bowie\, Legislative Distrcit 18\n\nSean McCarthy with ATRA will be speaking on K-12 Education Funding
X-ALT-DESC;FMTTYPE=text/html:<p><big><span style="font-family:tahoma\;"><span style="font-size:14px\;"><span style="color:#1F497D\;">&#8203\;</span></span></span></big><span font-size:="" helvetica="" style="color: rgb(63\, 63\, 63)\; font-family: ">The Chandler Chamber Public Policy Series is open to all members. The Chandler Chamber&nbsp\;of Commerce is your representative on local\, regional and state issues. We discuss issues that are important to the success of your business and the community.<br />\n<br />\n<strong>Speakers:</strong><br />\nSenator Sean Bowie\, Legislative Distrcit 18<br />\nSean McCarthy with ATRA will be speaking on K-12 Education Funding</span></p>\n
LOCATION:Chandler Chamber of Commerce 25 South Arizona Place Suite 201 Chandler\, AZ 85225
UID:e.1561.20677
SEQUENCE:3
DTSTAMP:20260423T135430Z
URL:https://business.chandlerchamber.com/events/details/public-policy-series-20677
END:VEVENT

END:VCALENDAR
