BEGIN:VCALENDAR
VERSION:2.0
PRODID:-//ChamberMaster//Event Calendar 2.0//EN
METHOD:PUBLISH
X-PUBLISHED-TTL:P3D
REFRESH-INTERVAL:P3D
CALSCALE:GREGORIAN
BEGIN:VEVENT
DTSTART:20180511T150000Z
DTEND:20180511T163000Z
X-MICROSOFT-CDO-ALLDAYEVENT:FALSE
SUMMARY:Public Policy Series
DESCRIPTION:The Chandler Chamber Public Policy Series is open to all members. The Chandler Chamber of Commerce is your representative on local\, regional and state issues. We discuss issues that are important to the success of your business and the community.\n\n\n\nSpeakers:\n\nSenator Sean Bowie \n\nThe Senator will be speaking about:\n\n-Overview of the recent budget that was passed\, and what it means for our K-12 schools\n\n-Bills that will impact small businesses and the broader business community\n\n\n\nJohn Knudson\, Senior Engineer\, City of Chandler\n\nGregg Capps\, Water Resource Manager\, City of Chandler\n\n- Speaking on Chandler's Water Resources
X-ALT-DESC;FMTTYPE=text/html:<p><big><span style="font-family:tahoma\;"><span style="font-size:14px\;"><span style="color:#1F497D\;">&#8203\;</span></span></span></big><span font-size:="" helvetica="" style="color: rgb(63\, 63\, 63)\; font-family: ">The Chandler Chamber Public Policy Series is open to all members. The Chandler Chamber&nbsp\;of Commerce is your representative on local\, regional and state issues. We discuss issues that are important to the success of your business and the community.<br />\n<br />\n<strong>Speakers:</strong></span><br />\n<strong>Senator Sean Bowie&nbsp\;</strong><br />\nThe Senator will be speaking about:<br />\n-Overview of the recent budget that was passed\, and what it means for our K-12 schools<br />\n-Bills that will impact small businesses and the broader business community</p>\n\n<p><br />\n<strong>John Knudson\, Senior Engineer\, City of Chandler<br />\nGregg Capps\, Water Resource Manager\, City of Chandler</strong><br />\n- Speaking on Chandler&#39\;s Water Resources</p>\n\n<p><br background-attachment:="" background-clip:="" background-image:="" background-origin:="" background-position:="" background-repeat:="" background-size:="" border-collapse:="" border-radius:="" border:="" height:="" helvetica="" left:="" line-height:="" margin:="" max-height:="" max-width:="" min-height:="" min-width:="" opacity:="" outline-offset:="" overflow:="" padding:="" position:="" resize:="" right:="" style="box-sizing: content-box\; bottom: auto\; clear: none\; color: rgb(63\, 63\, 63)\; content: normal\; direction: inherit\; display: inline\; empty-cells: show\; float: none\; font-variant-numeric: inherit\; font-variant-east-asian: inherit\; font-stretch: inherit\; font-size: 14px\; font-family: " table-layout:="" text-overflow:="" top:="" vertical-align:="" visibility:="" width:="" word-break:="" word-wrap:="" z-index:="" />\n<br />\n&nbsp\;</p>\n
LOCATION:Chandler Chamber of Commerce 25 South Arizona Place Suite 201 Chandler\, AZ 85225
UID:e.1561.20687
SEQUENCE:3
DTSTAMP:20260423T180626Z
URL:https://business.chandlerchamber.com/events/details/public-policy-series-20687
END:VEVENT

END:VCALENDAR
