BEGIN:VCALENDAR
VERSION:2.0
PRODID:-//ChamberMaster//Event Calendar 2.0//EN
METHOD:PUBLISH
X-PUBLISHED-TTL:P3D
REFRESH-INTERVAL:P3D
CALSCALE:GREGORIAN
BEGIN:VEVENT
DTSTART:20191011T150000Z
DTEND:20191011T163000Z
X-MICROSOFT-CDO-ALLDAYEVENT:FALSE
SUMMARY:Public Policy Series
DESCRIPTION:Education Issues:\n\nState Superintendent of Public Instruction Kathy Hoffman will present what her office has been working on in the interim and the issues the A.D.E. will be pursuing in the 2020 legislative session.\n\nThe Chamber will also welcome CUSD Superintendent Camille Casteel & Tempe Union Superintendent Kevin Mendivil who will give the latest update on their respective districts.
X-ALT-DESC;FMTTYPE=text/html:Education Issues:<br />\nState Superintendent of Public Instruction Kathy Hoffman will present what her office has been working on in the interim and the issues the A.D.E. will be pursuing in the 2020 legislative session.<br />\nThe Chamber will also welcome CUSD Superintendent Camille Casteel &amp\; Tempe Union Superintendent Kevin Mendivil who will give the latest update on their respective districts.
LOCATION:Chandler Chamber of Commerce 25 S Arizona Pl.\, Suite 201 Chandler AZ 85225
UID:e.1561.35875
SEQUENCE:3
DTSTAMP:20260422T201743Z
URL:https://business.chandlerchamber.com/events/details/public-policy-series-35875
END:VEVENT

END:VCALENDAR
