BEGIN:VCALENDAR
VERSION:2.0
PRODID:-//ChamberMaster//Event Calendar 2.0//EN
METHOD:PUBLISH
X-PUBLISHED-TTL:P3D
REFRESH-INTERVAL:P3D
CALSCALE:GREGORIAN
BEGIN:VEVENT
DTSTART:20200327T150000Z
DTEND:20200328T043000Z
X-MICROSOFT-CDO-ALLDAYEVENT:FALSE
SUMMARY:Public Policy Series- VIRTUAL
DESCRIPTION:The Chandler Chamber Public Policy Series is open to all members. The Chandler Chamber of Commerce is your representative on local\, regional and state issues. We discuss issues that are important to the success of your business and the community.\n\n\n\nThe Chamber will be electronically sharing messages from our full Legislative District 17 delegation to update the Chamber and discuss their individual and joint goals for the 2020 legislative session.
X-ALT-DESC;FMTTYPE=text/html:<p><span style="font-size:14px\;">The Chandler Chamber Public Policy Series is open to all members. The Chandler Chamber&nbsp\;of Commerce is your representative on local\, regional and state issues. We discuss issues that are important to the success of your business and the community.<br />\n<br />\n<span style="color: rgb(51\, 51\, 51)\; font-family: sans-serif\, Arial\, Verdana\, &quot\;Trebuchet MS&quot\;\; background-color: rgb(255\, 255\, 255)\;">The Chamber will be electronically sharing messages from our&nbsp\;full Legislative District 17&nbsp\;delegation to update the Chamber and&nbsp\;discuss their individual and joint goals for the 2020 legislative session.</span></span></p>\n
LOCATION:Chandler Chamber of Commerce 25 South Arizona Place Suite 201 Chandler\, AZ 85225
UID:e.1561.12398
SEQUENCE:3
DTSTAMP:20260424T163236Z
URL:https://business.chandlerchamber.com/events/details/public-policy-series-virtual-12398
END:VEVENT

END:VCALENDAR
