BEGIN:VCALENDAR
VERSION:2.0
PRODID:-//ChamberMaster//Event Calendar 2.0//EN
METHOD:PUBLISH
X-PUBLISHED-TTL:P3D
REFRESH-INTERVAL:P3D
CALSCALE:GREGORIAN
BEGIN:VEVENT
DTSTART:20200424T150000Z
DTEND:20200425T043000Z
X-MICROSOFT-CDO-ALLDAYEVENT:FALSE
SUMMARY:Public Policy Video Series
DESCRIPTION:Please register to receive the link to the video.\n\nThe Chandler Chamber Public Policy Series is open to members only. The Chandler Chamber of Commerce is your representative on local\, regional and state issues. We discuss issues that are important to the success of your business and the community.
X-ALT-DESC;FMTTYPE=text/html:<p>Please register to receive the link to the video.<br />\nThe Chandler Chamber Public Policy Series is open to&nbsp\;members only. The Chandler Chamber&nbsp\;of Commerce is your representative on local\, regional and state issues. We discuss issues that are important to the success of your business and the community.</p>\n
LOCATION:VIRTUAL EVENT- Shared Electronically
UID:e.1561.12399
SEQUENCE:3
DTSTAMP:20260424T152117Z
URL:https://business.chandlerchamber.com/events/details/public-policy-video-series-04-24-2020-12399
END:VEVENT

END:VCALENDAR
