BEGIN:VCALENDAR
VERSION:2.0
PRODID:-//ChamberMaster//Event Calendar 2.0//EN
METHOD:PUBLISH
X-PUBLISHED-TTL:P3D
REFRESH-INTERVAL:P3D
CALSCALE:GREGORIAN
BEGIN:VEVENT
DTSTART:20200508T150000Z
DTEND:20200508T163000Z
X-MICROSOFT-CDO-ALLDAYEVENT:FALSE
SUMMARY:Public Policy Video Series
DESCRIPTION:Please register to receive the video link.\n\nTerri Kimble will record a zoom video with Callie Kozlak\, Associate Superintendent of Policy & Government\, Arizona Department of Education.  \n\n\n\nThe Chandler Chamber Public Policy Series is open to all members.\n\nThe Chandler Chamber of Commerce is your representative on local\, regional and state issues. We discuss issues that are important to the success of your business and the community.
X-ALT-DESC;FMTTYPE=text/html:<p><span font-size:="" helvetica="" style="color: rgb(63\, 63\, 63)\; font-family: ">Please register to receive the video link.</span></p>\n\n<p><span style="font-size:14px\;"><span style="font-family:arial\;">Terri Kimble will record a zoom video with&nbsp\;Callie Kozlak\, Associate Superintendent of Policy &amp\; Government\, Arizona Department of Education.&nbsp\;&nbsp\;</span></span></p>\n\n<p><br />\n<span font-size:="" helvetica="" style="color: rgb(63\, 63\, 63)\; font-family: ">The Chandler Chamber Public Policy Series is open to all members.</span></p>\n\n<p><span font-size:="" helvetica="" style="color: rgb(63\, 63\, 63)\; font-family: ">The Chandler Chamber&nbsp\;of Commerce is your representative on local\, regional and state issues. We discuss issues that are important to the success of your business and the community.</span></p>\n
LOCATION:VIRTUAL MEETING- Sent out electronically
UID:e.1561.38571
SEQUENCE:3
DTSTAMP:20260424T163329Z
URL:https://business.chandlerchamber.com/events/details/public-policy-video-series-05-08-2020-38571
END:VEVENT

END:VCALENDAR
