BEGIN:VCALENDAR
VERSION:2.0
PRODID:-//ChamberMaster//Event Calendar 2.0//EN
METHOD:PUBLISH
X-PUBLISHED-TTL:P3D
REFRESH-INTERVAL:P3D
CALSCALE:GREGORIAN
BEGIN:VEVENT
DTSTART:20200410T150000Z
DTEND:20200410T163000Z
X-MICROSOFT-CDO-ALLDAYEVENT:FALSE
SUMMARY:Public Policy Video Series
DESCRIPTION:The Chandler Chamber Public Policy Series is open to members only.\n\nPlease register to receive the link to the recorded video.\n\nThe Chandler Chamber of Commerce is your representative on local\, regional and state issues. We discuss issues that are important to the success of your business and the community.\n\n\n\nThe Chamber will be electronically sharing messages from Maricopa County Supervisor Jack Sellers and Maricopa County Assessor Eddie Cook who will give a county update as well as a transportation update. Executive Director Eric Anderson of the Maricopa Association of Governments will be discussing infrastructure issues facing the county.
X-ALT-DESC;FMTTYPE=text/html:<p><span helvetica="" style="color: rgb(63\, 63\, 63)\; font-family:\;">The Chandler Chamber Public Policy Series is open to&nbsp\;members only.</span></p>\n\n<p><span helvetica="" style="color: rgb(63\, 63\, 63)\; font-family:\;">Please register to receive the link to the recorded video.</span></p>\n\n<p><span helvetica="" style="color: rgb(63\, 63\, 63)\; font-family:\;">The Chandler Chamber&nbsp\;of Commerce is your representative on local\, regional and state issues. We discuss issues that are important to the success of your business and the community.<br />\n<br />\nThe Chamber will be electronically sharing messages from&nbsp\;Maricopa County Supervisor Jack Sellers and </span><span style="color: rgb(63\, 63\, 63)\;">Maricopa County Assessor Eddie Cook&nbsp\;</span><span helvetica="" style="color: rgb(63\, 63\, 63)\; font-family:\;">who will give a county update as well as a transportation update. Executive Director Eric Anderson of the Maricopa Association of Governments will be discussing infrastructure issues facing the county.&nbsp\;</span></p>\n
LOCATION:VIRTUAL PRE-RECORDED EVENT- Shared electronically
UID:e.1561.38570
SEQUENCE:3
DTSTAMP:20260424T150117Z
URL:https://business.chandlerchamber.com/events/details/public-policy-video-series-38570
END:VEVENT

END:VCALENDAR
