BEGIN:VCALENDAR
VERSION:2.0
PRODID:-//ChamberMaster//Event Calendar 2.0//EN
METHOD:PUBLISH
X-PUBLISHED-TTL:P3D
REFRESH-INTERVAL:P3D
CALSCALE:GREGORIAN
BEGIN:VEVENT
DTSTART:20190302T160000Z
DTEND:20190302T200000Z
X-MICROSOFT-CDO-ALLDAYEVENT:FALSE
SUMMARY:Public Safety Day & Classic Kar Show
DESCRIPTION:FREE Family Fun\n	Child Fingerprinting\n	SWAT\, K9\, and Fire Demonstrations\n	Learn CPR\n	Department Tour\n	Safety information and displays\n	Hands-on safety experiences\n	Fire and crime prevention information/displays\n	Balloons\, hats\, and handouts\n	Drug take back\n	Collision scene\n	Car and community vendors\n	Food trucks\n	Music Provided by DJ Tole
X-ALT-DESC;FMTTYPE=text/html:<ul>\n	<li>FREE Family Fun</li>\n	<li>Child Fingerprinting</li>\n	<li>SWAT\, K9\, and Fire Demonstrations</li>\n	<li>Learn CPR</li>\n	<li>Department Tour</li>\n	<li>Safety information and displays</li>\n	<li>Hands-on safety experiences</li>\n	<li>Fire and crime prevention information/displays</li>\n	<li>Balloons\, hats\, and handouts</li>\n	<li>Drug take back</li>\n	<li>Collision scene</li>\n	<li>Car and community vendors</li>\n	<li>Food trucks</li>\n	<li>Music Provided by DJ Tole</li>\n</ul>\n
LOCATION:Chandler Police Department- Main Station 250 E. Chicago Street Chandler\, AZ 85225
UID:e.1561.36394
SEQUENCE:3
DTSTAMP:20260423T045520Z
URL:https://business.chandlerchamber.com/events/details/public-safety-day-classic-kar-show-36394
END:VEVENT

END:VCALENDAR
