BEGIN:VCALENDAR
VERSION:2.0
PRODID:-//ChamberMaster//Event Calendar 2.0//EN
METHOD:PUBLISH
X-PUBLISHED-TTL:P3D
REFRESH-INTERVAL:P3D
CALSCALE:GREGORIAN
BEGIN:VEVENT
DTSTART:20180817T160000Z
DTEND:20180817T180000Z
X-MICROSOFT-CDO-ALLDAYEVENT:FALSE
SUMMARY:Put Your Business Idea in Motion
DESCRIPTION:REGISTER NOW\n\nAre you an entrepreneur in the early stage of exploring and planning a new business venture? Are you confused by how to get started and what steps to take? Think you have a great idea\, but maybe you are not sure if it is a viable business idea\, an idea that customers want or need? If you answered yes to any of these questions\, our Put Your Business Idea in Motion program is for you. Using presentations\, group discussion\, and activities\, participants are introduced to the critical topics of how to explore and validate a business idea\, learn best practice tips for building a solid financial foundation on which to grow a business\, review the steps to setting up and doing business in Arizona\, and be introduced to the services offered by SBDC and other resources. This program is intended for new entrepreneurs and first-time business owners who have not yet opened their doors for business.\n\n \n\nSpeaker(s): Katie Boddy\, SBDC Business Analyst
X-ALT-DESC;FMTTYPE=text/html:<div font-size:="" open="" style="color: rgb(102\, 102\, 102)\; font-family: "><span style="font-size:14px\;"><a href="https://clients.azsbdc.net/reg.aspx?mode=event&amp\;event=10380116"><span style="color:#FF0000\;">REGISTER NOW</span></a></span><br />\n<span style="color:#000000\;"><span style="font-size:14px\;">Are you an entrepreneur in the early stage of exploring and planning a new business venture? Are you confused by how to get started and what steps to take? Think you have a great idea\, but maybe you are not sure if it is a viable business idea\, an idea that customers want or need? If you answered yes to any of these questions\, our Put Your Business Idea in Motion program is for you. Using presentations\, group discussion\, and activities\, participants are introduced to the critical topics of how to explore and validate a business idea\, learn best practice tips for building a solid financial foundation on which to grow a business\, review the steps to setting up and doing business in Arizona\, and be introduced to the services offered by SBDC and other resources. This program is intended for new entrepreneurs and first-time business owners who have not yet opened their doors for business.</span></span><br />\n&nbsp\;</div>\n\n<p class="cdworkshoptextinfo" font-size:="" open="" style="white-space: pre-wrap\; color: rgb(102\, 102\, 102)\; font-family: "><span style="color:#000000\;"><span style="font-size:14px\;">Speaker(s): Katie Boddy\, SBDC Business Analyst</span></span></p>\n
LOCATION:Chandler Chamber of Commerce 25 S Arizona Pl\, #201 Chandler\, AZ 85225
UID:e.1561.32598
SEQUENCE:3
DTSTAMP:20260423T135549Z
URL:https://business.chandlerchamber.com/events/details/put-your-business-idea-in-motion-32598
END:VEVENT

END:VCALENDAR
