BEGIN:VCALENDAR
VERSION:2.0
PRODID:-//ChamberMaster//Event Calendar 2.0//EN
METHOD:PUBLISH
X-PUBLISHED-TTL:P3D
REFRESH-INTERVAL:P3D
CALSCALE:GREGORIAN
BEGIN:VEVENT
DTSTART:20200114T160000Z
DTEND:20200114T180000Z
X-MICROSOFT-CDO-ALLDAYEVENT:FALSE
SUMMARY:Put Your Business Idea in Motion
DESCRIPTION:How you structure your business from day one will go a long way towards your ultimate success. An unintended mistake could result in unnecessary costs and unproductive use of time when you can least afford either. This workshop covers everything from choosing a business entity to hiring other people to set up useful financial documents. It will serve as a road map to your grand opening!\n\nSpeaker(s): Paula Wittekind\, SBDC Business Analyst
X-ALT-DESC;FMTTYPE=text/html:<div font-size:="" open="" style="color: rgb(102\, 102\, 102)\; font-family: ">\n<p class="cdworkshoptextinfo" style="white-space: pre-wrap\; color: rgb(102\, 102\, 102)\; font-family: &quot\;Open Sans&quot\;\, Arial\, sans-serif\; font-size: 16px\; background-color: rgb(255\, 255\, 255)\;">How you structure your business from day one will go a long way towards your ultimate success. An unintended mistake could result in unnecessary costs and unproductive use of time when you can least afford either. This workshop covers everything from choosing a business entity to hiring other people to set up useful financial documents. It will serve as a road map to your grand opening!</p>\n\n<p class="cdworkshoptextinfo" style="white-space: pre-wrap\; color: rgb(102\, 102\, 102)\; font-family: &quot\;Open Sans&quot\;\, Arial\, sans-serif\; font-size: 16px\; background-color: rgb(255\, 255\, 255)\;">Speaker(s): Paula Wittekind\, SBDC Business Analyst</p>\n</div>\n\n<p class="cdworkshoptextinfo" font-size:="" open="" style="white-space: pre-wrap\; color: rgb(102\, 102\, 102)\; font-family: ">&nbsp\;</p>\n
LOCATION:Chandler Chamber of Commerce 25 S Arizona Pl\, #201 Chandler\, AZ 85225
UID:e.1561.38789
SEQUENCE:3
DTSTAMP:20260420T151256Z
URL:https://business.chandlerchamber.com/events/details/put-your-business-idea-in-motion-38789
END:VEVENT

END:VCALENDAR
