BEGIN:VCALENDAR
VERSION:2.0
PRODID:-//ChamberMaster//Event Calendar 2.0//EN
METHOD:PUBLISH
X-PUBLISHED-TTL:P3D
REFRESH-INTERVAL:P3D
CALSCALE:GREGORIAN
BEGIN:VEVENT
DTSTART:20170928T210000Z
DTEND:20170928T230000Z
X-MICROSOFT-CDO-ALLDAYEVENT:FALSE
SUMMARY:Put Your Business Ideas in Motion
DESCRIPTION:Click here to register\n\n\n\nThe Chandler Chamber and the SBDC partner to present this seminar.\n\nAre you an entrepreneur in the early stage of exploring and planning a new business venture? Are you confused by how to get started and what steps to take? Think you have a great idea\, but maybe you are not sure if it is a viable business idea\, an idea that customers want or need? If you answered yes to any of these questions\, our Put Your Business Idea in Motion program is for you. In this interactive session\, you will be introduced to critical questions to ask\, and actions to take\, in order to determine the feasibility of your business idea. This session is also a necessary first step to prepare you for an initial counseling session with an SBDC business analyst. Audience: This program is intended for entrepreneurs who have not yet opened their doors for business and are in the planning phase.
X-ALT-DESC;FMTTYPE=text/html:<p><a href="https://clients.azsbdc.net/workshop.aspx?ekey=10370174"><span style="color:#FF0000\;"><font face="arial"><span style="font-size: 16px\;">Click here to register</span></font></span></a><br />\n<br />\n<span style="color:#000000\;"><span style="font-size:16px\;"><span style="font-family:arial\;">The Chandler Chamber and the SBDC partner to present this seminar.</span></span><br />\n<span style="font-size:16px\;"><span style="font-family:arial\;">Are you an entrepreneur in the early stage of exploring and planning a new business venture? Are you confused by how to get started and what steps to take? Think you have a great idea\, but maybe you are not sure if it is a viable business idea\, an idea that customers want or need? If you answered yes to any of these questions\, our Put Your Business Idea in Motion program is for you. In this interactive session\, you will be introduced to critical questions to ask\, and actions to take\, in order to determine the feasibility of your business idea. This session is also a necessary first step to prepare you for an initial counseling session with an SBDC business analyst. Audience: This program is intended for entrepreneurs who have not yet opened their doors for business and are in the planning phase.</span></span></span></p>\n
LOCATION:Chandler Chamber of Commerce 25 S Arizona Place\, 201 Chandler\, AZ 85225
UID:e.1561.19064
SEQUENCE:3
DTSTAMP:20260424T051000Z
URL:https://business.chandlerchamber.com/events/details/put-your-business-ideas-in-motion-19064
END:VEVENT

END:VCALENDAR
