BEGIN:VCALENDAR
VERSION:2.0
PRODID:-//ChamberMaster//Event Calendar 2.0//EN
METHOD:PUBLISH
X-PUBLISHED-TTL:P3D
REFRESH-INTERVAL:P3D
CALSCALE:GREGORIAN
BEGIN:VEVENT
DTSTART:20180410T153000Z
DTEND:20180410T190000Z
X-MICROSOFT-CDO-ALLDAYEVENT:FALSE
SUMMARY:Raising Capital
DESCRIPTION:REGISTER NOW\n\nThis program is designed to help small businesses increase their knowledge of funding sources and strategies. The session opens with an education portion that covers basic information about commercial loans\, types\, sources and how to prepare for lending requests. A panel of East Valley lenders will provide insight and information related to the types of business they service\, loans offered\, and suggestions for how to prepare for a meeting with a lender.
X-ALT-DESC;FMTTYPE=text/html:<p><a href="https://clients.azsbdc.net/reg.aspx?mode=event&amp\;event=10380121">REGISTER NOW</a></p>\n\n<p><span font-size:="" open="" style="color: rgb(102\, 102\, 102)\; font-family: " white-space:="">This program is designed to help small businesses increase their knowledge of funding sources and strategies. The session opens with an education portion that covers basic information about commercial loans\, types\, sources and how to prepare for lending requests. A panel of East Valley lenders will provide insight and information related to the types of business they service\, loans offered\, and suggestions for how to prepare for a meeting with a lender. </span></p>\n
LOCATION:Soho 63 63 E Boston St. Chandler\, AZ 85225
UID:e.1561.33619
SEQUENCE:3
DTSTAMP:20260423T193040Z
URL:https://business.chandlerchamber.com/events/details/raising-capital-33619
END:VEVENT

END:VCALENDAR
