BEGIN:VCALENDAR
VERSION:2.0
PRODID:-//ChamberMaster//Event Calendar 2.0//EN
METHOD:PUBLISH
X-PUBLISHED-TTL:P3D
REFRESH-INTERVAL:P3D
CALSCALE:GREGORIAN
BEGIN:VEVENT
DTSTART:20220612T023000Z
DTEND:20220612T043000Z
X-MICROSOFT-CDO-ALLDAYEVENT:FALSE
SUMMARY:Recorrido Mexicano: Norteño
DESCRIPTION:Take a journey to the Norte o region of Mexico with Ballet Folklorico Quetzali-AZ\, Alejandra Delgado\, Victor Hugo Chavez\, Karmen Iveth and Martin Lira. Attendees to this special performance will be given a deeper look at the unique traditions\, music and dances from a region that shares a border with the United States as well as a heritage that blends the western cowboy with European roots. This performance is free and will be available both in-person and streaming online. RSVP is recommended\; a ticket is not required. Seating is first come\, first served. Sponsored by City of Chandler. Te invitamos hacer un recorrido por la regi n Norte a de M xico con el Ballet Folkl rico Quetzalli-AZ\, Alejandra Delgado\, Victor Hugo Chavez\, Karmen Iveth y Martin Lira. Los asistentes a esta presentaci n podr n presenciar las tradiciones\, la m sica y los bailes  nicos de una regi n que comparte frontera con los Estados Unidos\, as  como una herencia que combina el vaquero occidental con las ra ces europeas. Esta presentaci n es gratuita y estar  disponible tanto en persona como en l nea. Se recomienda RSVP\; no se requiere boleto. El cupo es primero llegado\, primero servido. Patrocinado por la Ciudad de Chandler.
X-ALT-DESC;FMTTYPE=text/html:Take a journey to the Norte&ntilde\;o region of Mexico with Ballet Folklorico Quetzali-AZ\, Alejandra Delgado\, Victor Hugo Chavez\, Karmen Iveth and Martin Lira. Attendees to this special performance will be given a deeper look at the unique traditions\, music and dances from a region that shares a border with the United States as well as a heritage that blends the western cowboy with European roots. This performance is free and will be available both in-person and streaming online. RSVP is recommended\; a ticket is not required. Seating is first come\, first served. Sponsored by City of Chandler. Te invitamos hacer un recorrido por la regi&oacute\;n Norte&ntilde\;a de M&eacute\;xico con el Ballet Folkl&oacute\;rico Quetzalli-AZ\, Alejandra Delgado\, Victor Hugo Chavez\, Karmen Iveth y Martin Lira. Los asistentes a esta presentaci&oacute\;n podr&aacute\;n presenciar las tradiciones\, la m&uacute\;sica y los bailes &uacute\;nicos de una regi&oacute\;n que comparte frontera con los Estados Unidos\, as&iacute\; como una herencia que combina el vaquero occidental con las ra&iacute\;ces europeas. Esta presentaci&oacute\;n es gratuita y estar&aacute\; disponible tanto en persona como en l&iacute\;nea. Se recomienda RSVP\; no se requiere boleto. El cupo es primero llegado\, primero servido. Patrocinado por la Ciudad de Chandler.
LOCATION:Chandler Center for the Arts | 250 N. Arizona Ave. Chandler\, AZ 85225
UID:e.1561.40747
SEQUENCE:3
DTSTAMP:20260423T191027Z
URL:https://business.chandlerchamber.com/events/details/recorrido-mexicano-norte&#241;o-40747
END:VEVENT

END:VCALENDAR
