BEGIN:VCALENDAR
VERSION:2.0
PRODID:-//ChamberMaster//Event Calendar 2.0//EN
METHOD:PUBLISH
X-PUBLISHED-TTL:P3D
REFRESH-INTERVAL:P3D
CALSCALE:GREGORIAN
BEGIN:VEVENT
DTSTART:20220308T213000Z
DTEND:20220308T223000Z
X-MICROSOFT-CDO-ALLDAYEVENT:FALSE
SUMMARY:ReGrand Opening & Ribbon Cutting for St. Amand Kitchen & Cocktails
DESCRIPTION:Join the Chandler Chamber at the Ribbon Cutting & Grand ReOpening for:\n\nSt. Amand Kitchen & Cocktails\n\n3990 S Alma School Rd\, Ste 3\n\nChandler AZ 85248\n\n\n\nThank You to our Ribbon Sponsor Laser Creations
X-ALT-DESC;FMTTYPE=text/html:Join the Chandler Chamber at the Ribbon Cutting &amp\; Grand ReOpening for:<br />\n<strong>St. Amand Kitchen &amp\; Cocktails<br />\n3990 S Alma School Rd\, Ste 3<br />\nChandler AZ 85248</strong><br />\n<br />\nThank You to our Ribbon Sponsor <strong>Laser Creations</strong>
LOCATION:St. Amand Kitchen & Cocktails 3990 S Alma School Rd\, Ste. 3 Chandler AZ 85248
UID:e.1561.40637
SEQUENCE:3
DTSTAMP:20260423T234621Z
URL:https://business.chandlerchamber.com/events/details/regrand-opening-ribbon-cutting-for-st-amand-kitchen-cocktails-40637
END:VEVENT

END:VCALENDAR
