BEGIN:VCALENDAR
VERSION:2.0
PRODID:-//ChamberMaster//Event Calendar 2.0//EN
METHOD:PUBLISH
X-PUBLISHED-TTL:P3D
REFRESH-INTERVAL:P3D
CALSCALE:GREGORIAN
BEGIN:VEVENT
DTSTART:20200426T010000Z
DTEND:20200426T130000Z
X-MICROSOFT-CDO-ALLDAYEVENT:FALSE
SUMMARY:Relay For Life
DESCRIPTION:Relay For Life -- Banding Together For the Cure\n\nFacebook Page: https://www.facebook.com/EastValleyAZRelayForLife\n\nApril 25th 6:00pm through April 26th 6:00am
X-ALT-DESC;FMTTYPE=text/html:Relay For Life -- Banding Together For the Cure<br />\nFacebook Page: https://www.facebook.com/EastValleyAZRelayForLife<br />\nApril 25th 6:00pm through April 26th 6:00am
LOCATION:Perry High School 1919 E Queen Creek Rd Gilbert AZ 85297
UID:e.1561.38926
SEQUENCE:3
DTSTAMP:20260424T163236Z
URL:https://business.chandlerchamber.com/events/details/relay-for-life-38926
END:VEVENT

END:VCALENDAR
