BEGIN:VCALENDAR
VERSION:2.0
PRODID:-//ChamberMaster//Event Calendar 2.0//EN
METHOD:PUBLISH
X-PUBLISHED-TTL:P3D
REFRESH-INTERVAL:P3D
CALSCALE:GREGORIAN
BEGIN:VEVENT
DTSTART:20150915T180000Z
DTEND:20150916T040000Z
X-MICROSOFT-CDO-ALLDAYEVENT:FALSE
SUMMARY:Relay for Life/Serrano's Fundraiser
DESCRIPTION:Serrano's restaurant is partnering with Relay for Life and The American Cancer Society to provide 15% from each sale as a donation in the fight against cancer. Guests must provide a copy of the flyer on their phones. The flyer can be found on Facebook: https://www.facebook.com/events/865633266849282/
X-ALT-DESC;FMTTYPE=text/html:Serrano&#39\;s restaurant is partnering with Relay for Life and The American Cancer Society to provide 15% from each sale as a donation in the fight against cancer. Guests must provide a copy of the flyer on their phones. The flyer can be found on Facebook: https://www.facebook.com/events/865633266849282/
LOCATION:Serranos\, 141 S Arizona Ave\, Chandler
UID:e.1561.13191
SEQUENCE:3
DTSTAMP:20260425T183443Z
URL:https://business.chandlerchamber.com/events/details/relay-for-life-serrano-s-fundraiser-09-15-2015-13191
END:VEVENT

END:VCALENDAR
