BEGIN:VCALENDAR
VERSION:2.0
PRODID:-//ChamberMaster//Event Calendar 2.0//EN
METHOD:PUBLISH
X-PUBLISHED-TTL:P3D
REFRESH-INTERVAL:P3D
CALSCALE:GREGORIAN
BEGIN:VEVENT
DTSTART:20150807T020000Z
DTEND:20150807T033000Z
X-MICROSOFT-CDO-ALLDAYEVENT:FALSE
SUMMARY:Release Stress\, fatigue and Pain
DESCRIPTION:Have you heard about Tapping or Emotional Freedom Technique? ? Release Stress/Melt Away Fears or Phobias ? Alleviate Pain/Reduce Anxiety and Depression ? Overcome Grief/Increase Stamina and Energy ? Enhance Relationships/Reduce Interpersonal Difficulties ? Assist with Weight Loss/Career Decisions/Loneliness People say: ? WOW! Is this possible-absolutely!!!!!!! ? Skeptics invited it works whether or not you believe in it. ? Documented scientific studies and countless personal testimonials prove the results. ? Physical\, emotional\, spiritual symptoms are overcome when the energy disruption is corrected. No prior experience required. Experienced users will strengthen their practice! New practitioners will leave with the ability to use. Bring an issue to work on or gain from the borrowing benefits! Everyone leaves with materials\, will enjoy fun\, and a sense of wellness.
X-ALT-DESC;FMTTYPE=text/html:Have you heard about Tapping or Emotional Freedom Technique? ? Release Stress/Melt Away Fears or Phobias ? Alleviate Pain/Reduce Anxiety and Depression ? Overcome Grief/Increase Stamina and Energy ? Enhance Relationships/Reduce Interpersonal Difficulties ? Assist with Weight Loss/Career Decisions/Loneliness People say: ? WOW! Is this possible-absolutely!!!!!!! ? Skeptics invited it works whether or not you believe in it. ? Documented scientific studies and countless personal testimonials prove the results. ? Physical\, emotional\, spiritual symptoms are overcome when the energy disruption is corrected. No prior experience required. Experienced users will strengthen their practice! New practitioners will leave with the ability to use. Bring an issue to work on or gain from the borrowing benefits! Everyone leaves with materials\, will enjoy fun\, and a sense of wellness.
LOCATION:Dynamic Life Coaching Center 1701 S. Mill Suite 103 Tempe\, AZ 85281
UID:e.1561.13139
SEQUENCE:3
DTSTAMP:20260425T183550Z
URL:https://business.chandlerchamber.com/events/details/release-stress-fatigue-and-pain-08-06-2015-13139
END:VEVENT

END:VCALENDAR
