BEGIN:VCALENDAR
VERSION:2.0
PRODID:-//ChamberMaster//Event Calendar 2.0//EN
METHOD:PUBLISH
X-PUBLISHED-TTL:P3D
REFRESH-INTERVAL:P3D
CALSCALE:GREGORIAN
BEGIN:VEVENT
DTSTART:20190509T230000Z
DTEND:20190510T000000Z
X-MICROSOFT-CDO-ALLDAYEVENT:FALSE
SUMMARY:Ribbon Cutting & 1 Year Anniversary Celebration for Office Evolution
DESCRIPTION:Join the Chandler Chamber at the Ribbon Cutting/1st Anniversary Celebration for Office Evolution        \n\n\n\n*Thank you to our  ribbon sponsor Laser Creations*
X-ALT-DESC;FMTTYPE=text/html:Join the Chandler Chamber at the Ribbon Cutting/1st Anniversary Celebration for Office Evolution&nbsp\;&nbsp\;&nbsp\;&nbsp\;&nbsp\;&nbsp\;&nbsp\;&nbsp\;<br />\n<br />\n*Thank you to our&nbsp\; ribbon sponsor Laser Creations*
LOCATION:Office Evolution 4435 E Chandler Blvd #200 Phoenix\, AZ 85048
UID:e.1561.36649
SEQUENCE:3
DTSTAMP:20260423T021041Z
URL:https://business.chandlerchamber.com/events/details/ribbon-cutting-1-year-anniversary-celebration-for-office-evolution-36649
END:VEVENT

END:VCALENDAR
