BEGIN:VCALENDAR
VERSION:2.0
PRODID:-//ChamberMaster//Event Calendar 2.0//EN
METHOD:PUBLISH
X-PUBLISHED-TTL:P3D
REFRESH-INTERVAL:P3D
CALSCALE:GREGORIAN
BEGIN:VEVENT
DTSTART:20190316T203000Z
DTEND:20190316T213000Z
X-MICROSOFT-CDO-ALLDAYEVENT:FALSE
SUMMARY:Ribbon Cutting & 14 Year Anniversary Celebration for Dragon Wok
DESCRIPTION:Join the Chandler Chamber for a Ribbon Cutting & 14 Year Anniversary Celebration for Dragon Wok Fine Chinese Restaurant\n\n\n\nThank You to our Ribbon Sponsor Laser Creations
X-ALT-DESC;FMTTYPE=text/html:Join the Chandler Chamber for a Ribbon Cutting &amp\; 14 Year Anniversary Celebration for Dragon Wok Fine Chinese Restaurant<br />\n<br />\nThank You to our Ribbon Sponsor Laser Creations
LOCATION:727 W Ray Rd Suite 1 Gilbert\, AZ 85233 SE corner Ray/Cooper
UID:e.1561.36400
SEQUENCE:3
DTSTAMP:20260423T061538Z
URL:https://business.chandlerchamber.com/events/details/ribbon-cutting-14-year-anniversary-celebration-for-dragon-wok-36400
END:VEVENT

END:VCALENDAR
