BEGIN:VCALENDAR
VERSION:2.0
PRODID:-//ChamberMaster//Event Calendar 2.0//EN
METHOD:PUBLISH
X-PUBLISHED-TTL:P3D
REFRESH-INTERVAL:P3D
CALSCALE:GREGORIAN
BEGIN:VEVENT
DTSTART:20180605T230000Z
DTEND:20180606T000000Z
X-MICROSOFT-CDO-ALLDAYEVENT:FALSE
SUMMARY:Ribbon Cutting & 14th Anniversary Celebration for Von Hanson's Meats & Spirits
DESCRIPTION:Join the Chandler Chamber at the Ribbon Cutting & 14th Anniversary Celebration for Von Hanson's Meats & Spirits\n\n*Thank you to our ribbon sponsor Laser Creations*
X-ALT-DESC;FMTTYPE=text/html:Join the Chandler Chamber at the Ribbon Cutting &amp\; 14th Anniversary Celebration for Von Hanson&#39\;s Meats &amp\; Spirits<br />\n*Thank you to our ribbon sponsor Laser Creations*
LOCATION:2390 N Alma School Rd Chandler\, AZ 85224 (north of Warner on west side of Alma School Rd)
UID:e.1561.33662
SEQUENCE:3
DTSTAMP:20260423T181628Z
URL:https://business.chandlerchamber.com/events/details/ribbon-cutting-14th-anniversary-celebration-for-von-hanson-s-meats-spirits-33662
END:VEVENT

END:VCALENDAR
