BEGIN:VCALENDAR
VERSION:2.0
PRODID:-//ChamberMaster//Event Calendar 2.0//EN
METHOD:PUBLISH
X-PUBLISHED-TTL:P3D
REFRESH-INTERVAL:P3D
CALSCALE:GREGORIAN
BEGIN:VEVENT
DTSTART:20200307T213000Z
DTEND:20200307T223000Z
X-MICROSOFT-CDO-ALLDAYEVENT:FALSE
SUMMARY:Ribbon Cutting & 15th Anniversary Celebration for Dragon Wok
DESCRIPTION:Join the Chandler Chamber at the Ribbon Cutting & 15th Anniversary Celebration for Dragon Wok         \n\n\n\n*Thank you to our Ribbon Sponsor - Laser Creations*
X-ALT-DESC;FMTTYPE=text/html:Join the Chandler Chamber at the Ribbon Cutting &amp\; 15th Anniversary Celebration for Dragon Wok&nbsp\;&nbsp\;&nbsp\;&nbsp\;&nbsp\;&nbsp\;&nbsp\;&nbsp\;&nbsp\;<br />\n<br />\n*Thank you to our Ribbon Sponsor - Laser Creations*
LOCATION:727 W Ray Rd #1 Gilbert AZ 85233
UID:e.1561.38925
SEQUENCE:3
DTSTAMP:20260424T163554Z
URL:https://business.chandlerchamber.com/events/details/ribbon-cutting-15th-anniversary-celebration-for-dragon-wok-38925
END:VEVENT

END:VCALENDAR
