BEGIN:VCALENDAR
VERSION:2.0
PRODID:-//ChamberMaster//Event Calendar 2.0//EN
METHOD:PUBLISH
X-PUBLISHED-TTL:P3D
REFRESH-INTERVAL:P3D
CALSCALE:GREGORIAN
BEGIN:VEVENT
DTSTART:20190604T230000Z
DTEND:20190605T000000Z
X-MICROSOFT-CDO-ALLDAYEVENT:FALSE
SUMMARY:Ribbon Cutting & 15th Anniversary Celebration for Von Hanson's Meats & Spirits
DESCRIPTION:Join the Chandler Chamber at the Ribbon Cutting & 15th Anniversary Celebration for:\n\nVon Hanson's Meats & Spirits    \n\n\n\n*Thank you to our ribbon sponsor Laser Creations*
X-ALT-DESC;FMTTYPE=text/html:Join the Chandler Chamber at the Ribbon Cutting &amp\; 15th Anniversary Celebration for:<br />\nVon Hanson&#39\;s Meats &amp\; Spirits&nbsp\;&nbsp\;&nbsp\;&nbsp\;<br />\n<br />\n*Thank you to our ribbon sponsor Laser Creations*&nbsp\;&nbsp\;&nbsp\;&nbsp\;&nbsp\;&nbsp\;&nbsp\;&nbsp\;
LOCATION:2390 N Alma School Rd Chandler AZ 85224 (between Warner/Elliott on west side of Alma School)
UID:e.1561.36695
SEQUENCE:3
DTSTAMP:20260423T004314Z
URL:https://business.chandlerchamber.com/events/details/ribbon-cutting-15th-anniversary-celebration-for-von-hanson-s-meats-spirits-36695
END:VEVENT

END:VCALENDAR
