BEGIN:VCALENDAR
VERSION:2.0
PRODID:-//ChamberMaster//Event Calendar 2.0//EN
METHOD:PUBLISH
X-PUBLISHED-TTL:P3D
REFRESH-INTERVAL:P3D
CALSCALE:GREGORIAN
BEGIN:VEVENT
DTSTART:20220305T210000Z
DTEND:20220305T220000Z
X-MICROSOFT-CDO-ALLDAYEVENT:FALSE
SUMMARY:Ribbon Cutting & 17th Anniversary for Dragon Wok Fine Chinese Restaurant
DESCRIPTION:Join the Chandler Chamber at the Ribbon Cutting & 17th Anniversary Celebration for:\n\nDragon Wok Fine Chinese Restaurant\n\n727 W Ray Rd\, Ste 1\n\nGilbert\, AZ 85233\n\n\n\nThank you to our Ribbon Sponsor: Laser Creations
X-ALT-DESC;FMTTYPE=text/html:<span style="font-size:12px\;"><span style="font-family:arial\;"><strong><em><span style="font-size:14px\;">Join the Chandler Chamber at the Ribbon Cutting &amp\; 17th Anniversary Celebration for:</span></em></strong><br />\n<strong><span style="font-size:14px\;">Dragon Wok Fine Chinese Restaurant<br />\n<span style="color: rgb(51\, 51\, 51)\; background-color: rgb(240\, 240\, 240)\;">727 W Ray Rd\, Ste 1</span></span></strong><br style="color: rgb(51\, 51\, 51)\; font-family: Roboto\, sans-serif\; font-size: 13px\; background-color: rgb(240\, 240\, 240)\;" />\n<span style="color: rgb(51\, 51\, 51)\; background-color: rgb(240\, 240\, 240)\;"><strong><span style="font-size:14px\;">Gilbert\, AZ 85233</span></strong><br />\n<br />\n<strong>Thank you to our Ribbon Sponsor: Laser Creations</strong></span></span></span>
LOCATION:727 W Ray Rd\, Ste 1 Gilbert\, AZ 85233
UID:e.1561.40643
SEQUENCE:3
DTSTAMP:20260423T234621Z
URL:https://business.chandlerchamber.com/events/details/ribbon-cutting-17th-anniversary-for-dragon-wok-fine-chinese-restaurant-40643
END:VEVENT

END:VCALENDAR
