BEGIN:VCALENDAR
VERSION:2.0
PRODID:-//ChamberMaster//Event Calendar 2.0//EN
METHOD:PUBLISH
X-PUBLISHED-TTL:P3D
REFRESH-INTERVAL:P3D
CALSCALE:GREGORIAN
BEGIN:VEVENT
DTSTART:20220607T230000Z
DTEND:20220608T000000Z
X-MICROSOFT-CDO-ALLDAYEVENT:FALSE
SUMMARY:Ribbon Cutting 18th Anniversary Celebration for Von Hanson's Meats & Spirits
DESCRIPTION:Join the Chandler Chamber at the Ribbon Cutting & 18th Anniversary Celebration for:\n\nVon Hanson's Meats & Spirits\n\n2390 N Alma School Rd\n\nChandler AZ 85224\n\n\n\nThis will be a joint ribbon cutting with the Tempe Chamber of Commerce.\n\nThank You to our Ribbon Sponsor - Laser Creations
X-ALT-DESC;FMTTYPE=text/html:Join the Chandler Chamber at the Ribbon Cutting &amp\; 18th Anniversary Celebration for:<br />\n<span style="font-size:16px\;"><strong>Von Hanson&#39\;s Meats &amp\; Spirits<br />\n2390 N Alma School Rd<br />\nChandler AZ 85224</strong></span><br />\n<br />\nThis will be a joint ribbon cutting with the Tempe Chamber of Commerce.<br />\n<span style="font-size:14px\;"><strong>Thank You to our Ribbon Sponsor - Laser Creations</strong></span>
LOCATION:2390 N Alma School Rd Chandler AZ 85224
UID:e.1561.40632
SEQUENCE:3
DTSTAMP:20260423T191454Z
URL:https://business.chandlerchamber.com/events/details/ribbon-cutting-18th-anniversary-celebration-for-von-hanson-s-meats-spirits-40632
END:VEVENT

END:VCALENDAR
