BEGIN:VCALENDAR
VERSION:2.0
PRODID:-//ChamberMaster//Event Calendar 2.0//EN
METHOD:PUBLISH
X-PUBLISHED-TTL:P3D
REFRESH-INTERVAL:P3D
CALSCALE:GREGORIAN
BEGIN:VEVENT
DTSTART:20150128T233000Z
DTEND:20150129T003000Z
X-MICROSOFT-CDO-ALLDAYEVENT:FALSE
SUMMARY:Ribbon Cutting / 2nd Anniversary Celebration @ Speedpro Imaging
DESCRIPTION:Join the Chandler Chamber at the Ribbon Cutting and Second anniversary celebration for SpeedPro Imaging. There will be Food and Beverages featuring Four Peaks and Von Hanson's Meats! You will not want to miss this celebration!\n\n\n\n*Thank you to our ribbon sponsor Laser Creations.
X-ALT-DESC;FMTTYPE=text/html:Join the Chandler Chamber at the Ribbon Cutting and Second anniversary celebration for SpeedPro Imaging. There will be <span style="font-family:din\;"><span style="font-size:10.5pt\;">Food and Beverages featuring Four Peaks and Von Hanson&rsquo\;s Meats! You will not want to miss this celebration!</span></span><br />\n<br />\n*Thank you to our ribbon sponsor Laser Creations.<br />\n&nbsp\;
LOCATION:5861 S Kyrene Rd #16 Tempe\, AZ 85283 N of Guadalupe
UID:e.1561.11978
SEQUENCE:3
DTSTAMP:20260426T015555Z
URL:https://business.chandlerchamber.com/events/details/ribbon-cutting-2nd-anniversary-celebration-speedpro-imaging-01-28-2015-11978
END:VEVENT

END:VCALENDAR
