BEGIN:VCALENDAR
VERSION:2.0
PRODID:-//ChamberMaster//Event Calendar 2.0//EN
METHOD:PUBLISH
X-PUBLISHED-TTL:P3D
REFRESH-INTERVAL:P3D
CALSCALE:GREGORIAN
BEGIN:VEVENT
DTSTART:20150415T233000Z
DTEND:20150416T003000Z
X-MICROSOFT-CDO-ALLDAYEVENT:FALSE
SUMMARY:Ribbon Cutting @ Almeria at Ocotillo
DESCRIPTION:Ribbon cutting and refreshments!\n\n\n\n* Thank you to our ribbon sponsor\, Laser Creations
X-ALT-DESC;FMTTYPE=text/html:Ribbon cutting and refreshments!<br />\n<br />\n* Thank you to our ribbon sponsor\, Laser Creations
LOCATION:2471 W Edgewater Chandler\, AZ 85248. SE Queen Creek and Dobson
UID:e.1561.12651
SEQUENCE:3
DTSTAMP:20260425T213615Z
URL:https://business.chandlerchamber.com/events/details/ribbon-cutting-almeria-at-ocotillo-04-15-2015-12651
END:VEVENT

END:VCALENDAR
