BEGIN:VCALENDAR
VERSION:2.0
PRODID:-//ChamberMaster//Event Calendar 2.0//EN
METHOD:PUBLISH
X-PUBLISHED-TTL:P3D
REFRESH-INTERVAL:P3D
CALSCALE:GREGORIAN
BEGIN:VEVENT
DTSTART:20150325T233000Z
DTEND:20150326T003000Z
X-MICROSOFT-CDO-ALLDAYEVENT:FALSE
SUMMARY:Ribbon cutting @ Amerikiss
DESCRIPTION:Join the Chandler Chamber of Commerce at the Amerikiss ribbon cutting! Ribbon cutting and refreshments. \n\n\n\n*Thank you to our ribbon sponsor\, Laser Creations.
X-ALT-DESC;FMTTYPE=text/html:Join the Chandler Chamber of Commerce at the Amerikiss ribbon cutting! Ribbon cutting and refreshments.&nbsp\;<br />\n<br />\n*Thank you to our ribbon sponsor\, Laser Creations.&nbsp\;<br />\n&nbsp\;
LOCATION:SoZo Coffeehouse 1982 S. Alma School Rd Chandler\, AZ 85224 SW Corner of Alma School and Warner
UID:e.1561.12630
SEQUENCE:3
DTSTAMP:20260425T225110Z
URL:https://business.chandlerchamber.com/events/details/ribbon-cutting-amerikiss-03-25-2015-12630
END:VEVENT

END:VCALENDAR
